BEGIN:VCALENDAR
VERSION:2.0
PRODID:-//ortenaukultur.de//NONSGML kigkonsult.se iCalcreator 2.41.92//
CALSCALE:GREGORIAN
METHOD:PUBLISH
UID:33326232-3964-4134-b832-363932653364
X-WR-TIMEZONE:Europe/Berlin
X-LIC-LOCATION:Europe/Berlin
BEGIN:VEVENT
UID:123480-kulturportal@ortenaukultur.de
DTSTAMP:20260422T012009Z
DESCRIPTION:Kurzbeschreibung:\n An Vollmondtagen ........... im silbernen L
 icht des Vollmonds walken – eine besondere Atmosphäre!\n Ort:\n Treffpunkt
  siehe Beschreibung\, Zell am Harmersbach\n Veranstalter:\n Tourist-Inform
 ation\n Termin:\n Beginn: 29.07.2026\, 20:00 Uhr\n Ende: 29.07.2026\n Link
 :\n Zur Detailseite
DTSTART;TZID=Europe/Berlin:20260729T200000
DTEND;TZID=Europe/Berlin:20260729T230000
LOCATION:Treffpunkt siehe Beschreibung\, Zell am Harmersbach
SUMMARY:Vollmond-Tour\, Treffpunkt siehe Beschreibung
X-ALT-DESC;FMTTYPE=text/html:<strong>Kurzbeschreibung:</strong><br/>An Voll
 mondtagen ........... im silbernen Licht des Vollmonds walken – eine beson
 dere Atmosphäre!\n<br /><strong>Ort:</strong><br/>Treffpunkt siehe Beschre
 ibung\, Zell am Harmersbach<br /><strong>Veranstalter:</strong><br/>Touris
 t-Information<br /><strong>Termin:</strong><br/>Beginn: 29.07.2026\, 20:00
  Uhr<br/>Ende: 29.07.2026<br /><strong>Link:</strong><br/><a href='https:/
 /ortenaukultur.de/de/veranstaltungen/detail/veranstaltung/id/123480-vollmo
 nd-tour/?vt=1'>Zur Detailseite</a>
END:VEVENT
END:VCALENDAR
