BEGIN:VCALENDAR
VERSION:2.0
PRODID:-//ortenaukultur.de//NONSGML kigkonsult.se iCalcreator 2.41.92//
CALSCALE:GREGORIAN
METHOD:PUBLISH
UID:65663434-6435-4337-b964-373230386633
X-WR-TIMEZONE:Europe/Berlin
X-LIC-LOCATION:Europe/Berlin
BEGIN:VEVENT
UID:124011-kulturportal@ortenaukultur.de
DTSTAMP:20260425T104454Z
DESCRIPTION:Kurzbeschreibung:\n Kilwi das große Volksfest in Unterharmersba
 ch mit Fahrgeschäften und Jahrmarkt am Sonntag\n Ort:\n Beim Sportplatz Un
 terharmersbach\, Zell am Harmersbach\n Veranstalter:\n Fußballverein Unter
 harmersbach\n Termin:\n Beginn: 14.09.2026\, 14:30 Uhr\n Ende: 14.09.2026
 \n Link:\n Zur Detailseite
DTSTART;TZID=Europe/Berlin:20260914T143000
DTEND;TZID=Europe/Berlin:20260914T173000
LOCATION:Beim Sportplatz Unterharmersbach\, Zell am Harmersbach
SUMMARY:Hombacher Kilwi\, Beim Sportplatz Unterharmersbach
X-ALT-DESC;FMTTYPE=text/html:<strong>Kurzbeschreibung:</strong><br/>Kilwi d
 as große Volksfest in Unterharmersbach mit Fahrgeschäften und Jahrmarkt am
  Sonntag \n\n<br /><strong>Ort:</strong><br/>Beim Sportplatz Unterharmersb
 ach\, Zell am Harmersbach<br /><strong>Veranstalter:</strong><br/>Fußballv
 erein Unterharmersbach<br /><strong>Termin:</strong><br/>Beginn: 14.09.202
 6\, 14:30 Uhr<br/>Ende: 14.09.2026<br /><strong>Link:</strong><br/><a href
 ='https://ortenaukultur.de/de/veranstaltungen/detail/veranstaltung/id/1240
 11-hombacher-kilwi/?vt=1'>Zur Detailseite</a>
END:VEVENT
END:VCALENDAR
