BEGIN:VCALENDAR
VERSION:2.0
PRODID:-//ortenaukultur.de//NONSGML kigkonsult.se iCalcreator 2.41.92//
CALSCALE:GREGORIAN
METHOD:PUBLISH
UID:62643832-6561-4332-b037-643363323035
X-WR-TIMEZONE:Europe/Berlin
X-LIC-LOCATION:Europe/Berlin
BEGIN:VEVENT
UID:253500-kulturportal@ortenaukultur.de
DTSTAMP:20260421T201739Z
DESCRIPTION:Kurzbeschreibung:\n Jährlich zum 01. Mai öffnet das Oberrheinis
 che Tabakmuseum seine Pforten.\n Ort:\n Oberrheinisches Tabakmuseum\n Kirc
 hstraße 2\, 77972 Mahlberg\n Veranstalter:\n Stadt Mahlberg\n Termin:\n Be
 ginn: 01.05.2026\, 10:00 Uhr\n Ende: 01.05.2026\n Link:\n Zur Detailseite
DTSTART;TZID=Europe/Berlin:20260501T100000
DTEND;TZID=Europe/Berlin:20260501T130000
LOCATION:Oberrheinisches Tabakmuseum\, Kirchstraße 2\, 77972 Mahlberg
SUMMARY:Eröffnung Oberrheinisches Tabakmuseum 2026\, Oberrheinisches Tabakm
 useum
X-ALT-DESC;FMTTYPE=text/html:<strong>Kurzbeschreibung:</strong><br/>Jährlic
 h zum 01. Mai öffnet das Oberrheinische Tabakmuseum seine Pforten.\n\n<br 
 /><strong>Ort:</strong><br/>Oberrheinisches Tabakmuseum<br/>Kirchstraße 2\
 , 77972 Mahlberg<br /><strong>Veranstalter:</strong><br/>Stadt Mahlberg<br
  /><strong>Termin:</strong><br/>Beginn: 01.05.2026\, 10:00 Uhr<br/>Ende: 0
 1.05.2026<br /><strong>Link:</strong><br/><a href='https://ortenaukultur.d
 e/de/veranstaltungen/detail/veranstaltung/id/253500-eroeffnung-oberrheinis
 ches-tabakmuseum-2026/?vt=1'>Zur Detailseite</a>
END:VEVENT
END:VCALENDAR
