BEGIN:VCALENDAR
VERSION:2.0
PRODID:-//ortenaukultur.de//NONSGML kigkonsult.se iCalcreator 2.41.92//
CALSCALE:GREGORIAN
METHOD:PUBLISH
UID:33613038-3635-4438-a433-363162306130
X-WR-TIMEZONE:Europe/Berlin
X-LIC-LOCATION:Europe/Berlin
BEGIN:VEVENT
UID:394743-kulturportal@ortenaukultur.de
DTSTAMP:20260422T022136Z
DESCRIPTION:Kurzbeschreibung:\n Führung im Besucherbergwerk - Weinverkostun
 g durch die Weinmanufaktur Gengenbach\n Ort:\n Besucherbergwerk Grube Wenz
 el\n Frohnbach 19\, 77709 Oberwolfach\n Veranstalter:\n Grube Wenzel\n Ter
 min:\n Beginn: 15.05.2026\, 18:30 Uhr\n Ende: 15.05.2026\n Link:\n Zur Det
 ailseite
DTSTART;TZID=Europe/Berlin:20260515T183000
DTEND;TZID=Europe/Berlin:20260515T213000
LOCATION:Besucherbergwerk Grube Wenzel\, Frohnbach 19\, 77709 Oberwolfach
SUMMARY:Wein & Bergbau in der Grube Wenzel \, Besucherbergwerk Grube Wenzel
X-ALT-DESC;FMTTYPE=text/html:<strong>Kurzbeschreibung:</strong><br/>Führung
  im Besucherbergwerk - Weinverkostung durch die Weinmanufaktur Gengenbach<
 br /><strong>Ort:</strong><br/>Besucherbergwerk Grube Wenzel<br/>Frohnbach
  19\, 77709  Oberwolfach<br /><strong>Veranstalter:</strong><br/>Grube Wen
 zel<br /><strong>Termin:</strong><br/>Beginn: 15.05.2026\, 18:30 Uhr<br/>E
 nde: 15.05.2026<br /><strong>Link:</strong><br/><a href='https://ortenauku
 ltur.de/de/veranstaltungen/detail/veranstaltung/id/394743-wein-bergbau-in-
 der-grube-wenzel/?vt=1'>Zur Detailseite</a>
END:VEVENT
END:VCALENDAR
