BEGIN:VCALENDAR
VERSION:2.0
PRODID:-//ortenaukultur.de//NONSGML kigkonsult.se iCalcreator 2.41.92//
CALSCALE:GREGORIAN
METHOD:PUBLISH
UID:30386435-3739-4465-a237-373133613633
X-WR-TIMEZONE:Europe/Berlin
X-LIC-LOCATION:Europe/Berlin
BEGIN:VEVENT
UID:395745-kulturportal@ortenaukultur.de
DTSTAMP:20260422T101036Z
DESCRIPTION:Kurzbeschreibung:\n Genießen Sie frische und selbstgebackene Fl
 ammenkuchen in verschiedenen Variationen bis Sie satt sind.\n Ort:\n Engel
 berg 12\n Engelberg 12\, 77784 Oberharmersbach\n Veranstalter:\n Hasegalli
 s Besenwirtschaft\n Termin:\n Beginn: 25.06.2026\, 18:30 Uhr\n Ende: 25.06
 .2026\n Tickets:\n \n \n Link:\n Zur Detailseite
DTSTART;TZID=Europe/Berlin:20260625T183000
DTEND;TZID=Europe/Berlin:20260625T213000
LOCATION:Engelberg 12\, Engelberg 12\, 77784 Oberharmersbach
SUMMARY:Flammenkuchen 'satt' essen\, Hasegallis Besenwirtschaft
X-ALT-DESC;FMTTYPE=text/html:<strong>Kurzbeschreibung:</strong><br/>Genieße
 n Sie frische und selbstgebackene Flammenkuchen in verschiedenen Variation
 en bis Sie satt sind.<br /><strong>Ort:</strong><br/>Engelberg 12<br/>Enge
 lberg 12\, 77784 Oberharmersbach<br /><strong>Veranstalter:</strong><br/>H
 asegallis Besenwirtschaft<br /><strong>Termin:</strong><br/>Beginn: 25.06.
 2026\, 18:30 Uhr<br/>Ende: 25.06.2026<br /><strong>Tickets: </strong><br/>
 <br />\n<br /><strong>Link:</strong><br/><a href='https://ortenaukultur.de
 /de/veranstaltungen/detail/veranstaltung/id/395745-flammenkuchen-satt-esse
 n/?vt=1'>Zur Detailseite</a>
END:VEVENT
END:VCALENDAR
