BEGIN:VCALENDAR
VERSION:2.0
PRODID:-//ortenaukultur.de//NONSGML kigkonsult.se iCalcreator 2.41.92//
CALSCALE:GREGORIAN
METHOD:PUBLISH
UID:32663465-6262-4261-b362-346138623234
X-WR-TIMEZONE:Europe/Berlin
X-LIC-LOCATION:Europe/Berlin
BEGIN:VEVENT
UID:412409-kulturportal@ortenaukultur.de
DTSTAMP:20260422T231005Z
DESCRIPTION:Kurzbeschreibung:\n Ein Fest der Begegnung von Menschen mit und
  ohne Behinderung im Garten des Bonifazhof\n Ort:\n Bonifazhof \, Bad Ripp
 oldsau-Schapbach\n Veranstalter:\n Bonifazhof\n Termin:\n Beginn: 19.07.20
 26\, 10:00 Uhr\n Ende: 19.07.2026\n Link:\n Zur Detailseite
DTSTART;TZID=Europe/Berlin:20260719T100000
DTEND;TZID=Europe/Berlin:20260719T130000
LOCATION:Bonifazhof \, Bad Rippoldsau-Schapbach
SUMMARY:Gartenfest auf dem Bonifazhof \, Bonifazhof
X-ALT-DESC;FMTTYPE=text/html:<strong>Kurzbeschreibung:</strong><br/>Ein Fes
 t der Begegnung von Menschen mit und ohne Behinderung im Garten des Bonifa
 zhof <br /><strong>Ort:</strong><br/>Bonifazhof \, Bad Rippoldsau-Schapbac
 h<br /><strong>Veranstalter:</strong><br/>Bonifazhof<br /><strong>Termin:<
 /strong><br/>Beginn: 19.07.2026\, 10:00 Uhr<br/>Ende: 19.07.2026<br /><str
 ong>Link:</strong><br/><a href='https://ortenaukultur.de/de/veranstaltunge
 n/detail/veranstaltung/id/412409-gartenfest-auf-dem-bonifazhof/?vt=1'>Zur 
 Detailseite</a>
END:VEVENT
END:VCALENDAR
