BEGIN:VCALENDAR
VERSION:2.0
PRODID:-//ortenaukultur.de//NONSGML kigkonsult.se iCalcreator 2.41.92//
CALSCALE:GREGORIAN
METHOD:PUBLISH
UID:66396132-3563-4231-a337-636438623761
X-WR-TIMEZONE:Europe/Berlin
X-LIC-LOCATION:Europe/Berlin
BEGIN:VEVENT
UID:424814-kulturportal@ortenaukultur.de
DTSTAMP:20260425T023325Z
DESCRIPTION:Kurzbeschreibung:\n Auf zum Sommerfest der Stadtkapelle Zell am
  5. Juli beim Kulturzentrum\n Ort:\n Tellerbau (Kulturzentrum Obere Fabrik
 )\n Fabrikstr. 5\, 77736 Zell am Harmersbach\n Veranstalter:\n Stadtkapell
 e Zell a.H.\n Termin:\n Beginn: 05.07.2026\n Ende: 05.07.2026\n Link:\n Zu
 r Detailseite
DTSTART;TZID=Europe/Berlin:20260705T000000
DTEND;TZID=Europe/Berlin:20260705T030000
LOCATION:Tellerbau (Kulturzentrum Obere Fabrik)\, Fabrikstr. 5\, 77736 Zell
  am Harmersbach
SUMMARY:Sommer Open-Air der Stadtkapelle \, Tellerbau (Kulturzentrum Obere 
 Fabrik)
X-ALT-DESC;FMTTYPE=text/html:<strong>Kurzbeschreibung:</strong><br/>Auf zum
  Sommerfest der Stadtkapelle Zell am 5. Juli beim Kulturzentrum<br /><stro
 ng>Ort:</strong><br/>Tellerbau (Kulturzentrum Obere Fabrik)<br/>Fabrikstr.
  5\, 77736 Zell am Harmersbach<br /><strong>Veranstalter:</strong><br/>Sta
 dtkapelle Zell a.H.<br /><strong>Termin:</strong><br/>Beginn: 05.07.2026<b
 r/>Ende: 05.07.2026<br /><strong>Link:</strong><br/><a href='https://orten
 aukultur.de/de/veranstaltungen/detail/veranstaltung/id/424814-sommer-open-
 air-der-stadtkapelle/?vt=1'>Zur Detailseite</a>
END:VEVENT
END:VCALENDAR
