BEGIN:VCALENDAR
VERSION:2.0
PRODID:-//ortenaukultur.de//NONSGML kigkonsult.se iCalcreator 2.41.92//
CALSCALE:GREGORIAN
METHOD:PUBLISH
UID:64326634-3438-4632-b337-333262343933
X-WR-TIMEZONE:Europe/Berlin
X-LIC-LOCATION:Europe/Berlin
BEGIN:VEVENT
UID:457654-kulturportal@ortenaukultur.de
DTSTAMP:20260422T022202Z
DESCRIPTION:Kurzbeschreibung:\n Erleben Sie Zell am Harmersbach im 19. Jahr
 hundert mit dem Wäschweib Klärle und dem Stadtbott Isidor\n Ort:\n beim St
 orchenturm\n Kanzleiplatz 1\, 77736 Zell am Harmersbach\n Veranstalter:\n 
 Albert Schwarz und Brigitte Sum-HerrmannSchwarzwald-Guide\n Termin:\n Begi
 nn: 16.07.2026\, 18:00 Uhr\n Ende: 16.07.2026\n Link:\n Zur Detailseite
DTSTART;TZID=Europe/Berlin:20260716T180000
DTEND;TZID=Europe/Berlin:20260716T210000
LOCATION:beim Storchenturm\, Kanzleiplatz 1\, 77736 Zell am Harmersbach
SUMMARY:Erlebnisführung: Hesch´s schu g´hört\, Kanzleiplatz
X-ALT-DESC;FMTTYPE=text/html:<strong>Kurzbeschreibung:</strong><br/>Erleben
  Sie Zell am Harmersbach im 19. Jahrhundert mit dem Wäschweib Klärle und d
 em Stadtbott Isidor<br /><strong>Ort:</strong><br/>beim Storchenturm<br/>K
 anzleiplatz 1\, 77736 Zell am Harmersbach<br /><strong>Veranstalter:</stro
 ng><br/>Albert Schwarz und Brigitte Sum-HerrmannSchwarzwald-Guide<br /><st
 rong>Termin:</strong><br/>Beginn: 16.07.2026\, 18:00 Uhr<br/>Ende: 16.07.2
 026<br /><strong>Link:</strong><br/><a href='https://ortenaukultur.de/de/v
 eranstaltungen/detail/veranstaltung/id/457654-erlebnisfuehrung-hesch-s-sch
 u-g-hoert/?vt=1'>Zur Detailseite</a>
END:VEVENT
END:VCALENDAR
