BEGIN:VCALENDAR
VERSION:2.0
PRODID:-//ortenaukultur.de//NONSGML kigkonsult.se iCalcreator 2.41.92//
CALSCALE:GREGORIAN
METHOD:PUBLISH
UID:65333430-3662-4265-a631-356662626133
X-WR-TIMEZONE:Europe/Berlin
X-LIC-LOCATION:Europe/Berlin
BEGIN:VEVENT
UID:478901-kulturportal@ortenaukultur.de
DTSTAMP:20260422T223218Z
DESCRIPTION:Kurzbeschreibung:\n Das glühende Eisen in der Esse\, der Klang 
 des Hammers auf dem Amboss - spannend auch für Familien mit Kindern! Eintr
 itt frei\, Talstraße 9.\n Ort:\n Backofenschmiede\n Talstraße 9\, 77738 No
 rdrach\n Veranstalter:\n Touristen-Information Nordrach\n Termin:\n Beginn
 : 13.06.2026\, 12:00 Uhr\n Ende: 13.06.2026\n Link:\n Zur Detailseite
DTSTART;TZID=Europe/Berlin:20260613T120000
DTEND;TZID=Europe/Berlin:20260613T150000
LOCATION:Backofenschmiede\, Talstraße 9\, 77738 Nordrach
SUMMARY:Schauschmieden in der historischen 'Backofenschmiede'!\, Backofensc
 hmiede
X-ALT-DESC;FMTTYPE=text/html:<strong>Kurzbeschreibung:</strong><br/>Das glü
 hende Eisen in der Esse\, der Klang des Hammers auf dem Amboss - spannend 
 auch für Familien mit Kindern! Eintritt frei\, Talstraße 9. <br /><strong>
 Ort:</strong><br/>Backofenschmiede<br/>Talstraße 9\, 77738 Nordrach<br /><
 strong>Veranstalter:</strong><br/>Touristen-Information Nordrach<br /><str
 ong>Termin:</strong><br/>Beginn: 13.06.2026\, 12:00 Uhr<br/>Ende: 13.06.20
 26<br /><strong>Link:</strong><br/><a href='https://ortenaukultur.de/de/ve
 ranstaltungen/detail/veranstaltung/id/478901-schauschmieden-in-der-histori
 schen-backofenschmiede/?vt=1'>Zur Detailseite</a>
END:VEVENT
END:VCALENDAR
