BEGIN:VCALENDAR
VERSION:2.0
PRODID:-//ortenaukultur.de//NONSGML kigkonsult.se iCalcreator 2.41.92//
CALSCALE:GREGORIAN
METHOD:PUBLISH
UID:39363033-3839-4137-b336-306339386637
X-WR-TIMEZONE:Europe/Berlin
X-LIC-LOCATION:Europe/Berlin
BEGIN:VEVENT
UID:537588-kulturportal@ortenaukultur.de
DTSTAMP:20260422T163701Z
DESCRIPTION:Kurzbeschreibung:\n Sofie und Fritz staunen nicht schlecht\, al
 s sie sich nach Ewigkeiten in himmlischen Gefilden plötzlich auf dem Urtei
 lsplatz in Lahr wiederfinden.\n Ort:\n Stiftsschaffneikeller\, Urteilsplat
 z\n Friedrichstraße 7\, 77933 Lahr\n Veranstalter:\n Stadt Lahr Stadtmarke
 ting\n Termin:\n Beginn: 17.05.2026\, 15:00 Uhr\n Ende: 17.05.2026\n Ticke
 ts:\n \n https://erlebe.lahr.de/oeffentliche-fuehrungen-buchen.274465.htm#
 /experience/FIT00020072495577926\n 12\,00 € pro Person / mind. 5 Pers.\n 1
 40\,00 € pro Gruppe / max 20 Pers.\n Ganzjährig individuell buchbar\n Link
 :\n Zur Detailseite
DTSTART;TZID=Europe/Berlin:20260517T150000
DTEND;TZID=Europe/Berlin:20260517T180000
LOCATION:Stiftsschaffneikeller\, Urteilsplatz\, Friedrichstraße 7\, 77933 L
 ahr
SUMMARY:„Alles anderscht“: Mit Sofie und Fritz auf der Suche nach Geschicht
 e(n)g historisches Lahr \, Stiftsschaffneikeller
X-ALT-DESC;FMTTYPE=text/html:<strong>Kurzbeschreibung:</strong><br/>Sofie u
 nd Fritz staunen nicht schlecht\, als sie sich nach Ewigkeiten in himmlisc
 hen Gefilden plötzlich auf dem Urteilsplatz in Lahr wiederfinden.<br /><st
 rong>Ort:</strong><br/>Stiftsschaffneikeller\, Urteilsplatz<br/>Friedrichs
 traße 7\, 77933 Lahr<br /><strong>Veranstalter:</strong><br/>Stadt Lahr St
 adtmarketing<br /><strong>Termin:</strong><br/>Beginn: 17.05.2026\, 15:00 
 Uhr<br/>Ende: 17.05.2026<br /><strong>Tickets: </strong><br/><a  class='wc
 o_cb_subtitle_link'  id='ticketlink'  href='https://erlebe.lahr.de/oeffent
 liche-fuehrungen-buchen.274465.htm#/experience/FIT00020072495577926' targe
 t='_blank' title='Öffnet externen Link in einem neuen Fenster'></a><br/>ht
 tps://erlebe.lahr.de/oeffentliche-fuehrungen-buchen.274465.htm#/experience
 /FIT00020072495577926<br/>12\,00 € pro Person / mind. 5 Pers.<br />\n140\,
 00 € pro Gruppe / max 20 Pers.<br />\nGanzjährig individuell buchbar<br />
 <strong>Link:</strong><br/><a href='https://ortenaukultur.de/de/veranstalt
 ungen/detail/veranstaltung/id/537588-alles-anderscht-mit-sofie-und-fritz-a
 uf-der-suche-nach-geschichte-n-g-historisches-lahr/?vt=1'>Zur Detailseite<
 /a>
END:VEVENT
END:VCALENDAR
