BEGIN:VCALENDAR
VERSION:2.0
PRODID:-//ortenaukultur.de//NONSGML kigkonsult.se iCalcreator 2.41.92//
CALSCALE:GREGORIAN
METHOD:PUBLISH
UID:31383166-3932-4432-b366-333566383536
X-WR-TIMEZONE:Europe/Berlin
X-LIC-LOCATION:Europe/Berlin
BEGIN:VEVENT
UID:538959-kulturportal@ortenaukultur.de
DTSTAMP:20260422T022844Z
DESCRIPTION:Kurzbeschreibung:\n Rundflüge - Flammenkuchen\, Kaffee&Waffeln 
 im Naherholungsgebiet am Königswaldsee\n Ort:\n Flugplatz Offenburg am Kön
 igswaldsee\, Offenburg\n Veranstalter:\n Fliegergruppe Offenburg e.V.\n Te
 rmin:\n Beginn: 30.04.2026\, 16:00 Uhr\n Ende: 30.04.2026\n Tickets:\n Tic
 kets\n Eintritt kostenlos\, Rundflüge 50€\n Link:\n Zur Detailseite
DTSTART;TZID=Europe/Berlin:20260430T160000
DTEND;TZID=Europe/Berlin:20260430T190000
LOCATION:Flugplatz Offenburg am Königswaldsee\, Offenburg
SUMMARY:Tanz in den Mai und 1. Mai auf dem Flugplatz Offenburg\, Flugplatz 
 Offenburg am Königswaldsee
X-ALT-DESC;FMTTYPE=text/html:<strong>Kurzbeschreibung:</strong><br/>Rundflü
 ge - Flammenkuchen\, Kaffee&Waffeln im Naherholungsgebiet am Königswaldsee
 <br /><strong>Ort:</strong><br/>Flugplatz Offenburg am Königswaldsee\, Off
 enburg<br /><strong>Veranstalter:</strong><br/>Fliegergruppe Offenburg e.V
 .<br /><strong>Termin:</strong><br/>Beginn: 30.04.2026\, 16:00 Uhr<br/>End
 e: 30.04.2026<br /><strong>Tickets: </strong><br/><a  class='wco_cb_subtit
 le_link'  id='ticketlink'  href='mailto:som@fliegergruppe-offenburg.de' ta
 rget='_blank' >Tickets</a><br/>Eintritt kostenlos\, Rundflüge 50€<br /><st
 rong>Link:</strong><br/><a href='https://ortenaukultur.de/de/veranstaltung
 en/detail/veranstaltung/id/538959-tanz-in-den-mai-und-1-mai-auf-dem-flugpl
 atz-offenburg/?vt=1'>Zur Detailseite</a>
END:VEVENT
END:VCALENDAR
