BEGIN:VCALENDAR
VERSION:2.0
PRODID:-//ortenaukultur.de//NONSGML kigkonsult.se iCalcreator 2.41.92//
CALSCALE:GREGORIAN
METHOD:PUBLISH
UID:30323630-6361-4235-b636-373139353833
X-WR-TIMEZONE:Europe/Berlin
X-LIC-LOCATION:Europe/Berlin
BEGIN:VEVENT
UID:555764-kulturportal@ortenaukultur.de
DTSTAMP:20260422T024018Z
DESCRIPTION:Kurzbeschreibung:\n Grenzüberschreitende Radtour - Von Kehl auf
  neuen Radwegen durch Straßburg\n Ort:\n Innenstadt\n Marktplatz / Hauptst
 raße\, 77694 Kehl\n Veranstalter:\n Kehl Marketing GmbH\n Termin:\n Beginn
 : 09.07.2026\n Ende: 09.07.2026\n Tickets:\n Tickets\n https://kehl-market
 ing-gmbh.reservix.de/events\n 18\,90 Euro (inkl. Getränk)\n \n Fahrradhelm
  empfohlen!\n Eigenes\, verkehrssicheres Fahrrad bitte mitbringen (Tourenl
 änge 20-25 km)\n Link:\n Zur Detailseite
DTSTART;TZID=Europe/Berlin:20260709T000000
DTEND;TZID=Europe/Berlin:20260709T030000
LOCATION:Innenstadt\, Marktplatz / Hauptstraße\, 77694 Kehl
SUMMARY:Führung 'Grenzüberschreitende Radtour'\, Innenstadt
X-ALT-DESC;FMTTYPE=text/html:<strong>Kurzbeschreibung:</strong><br/>Grenzüb
 erschreitende Radtour - Von Kehl auf neuen Radwegen durch Straßburg<br /><
 strong>Ort:</strong><br/>Innenstadt<br/>Marktplatz / Hauptstraße\, 77694 K
 ehl<br /><strong>Veranstalter:</strong><br/>Kehl Marketing GmbH<br /><stro
 ng>Termin:</strong><br/>Beginn: 09.07.2026<br/>Ende: 09.07.2026<br /><stro
 ng>Tickets: </strong><br/><a  class='wco_cb_subtitle_link'  id='ticketlink
 '  href='https://kehl-marketing-gmbh.reservix.de/events' target='_blank' t
 itle='Link'>Tickets</a><br/>https://kehl-marketing-gmbh.reservix.de/events
 <br/>18\,90 Euro (inkl. Getränk)<br />\n<br />\nFahrradhelm empfohlen!<br 
 />\nEigenes\, verkehrssicheres Fahrrad bitte mitbringen (Tourenlänge 20-25
  km)<br /><strong>Link:</strong><br/><a href='https://ortenaukultur.de/de/
 veranstaltungen/detail/veranstaltung/id/555764-fuehrung-grenzueberschreite
 nde-radtour/?vt=1'>Zur Detailseite</a>
END:VEVENT
END:VCALENDAR
