BEGIN:VCALENDAR
VERSION:2.0
PRODID:-//ortenaukultur.de//NONSGML kigkonsult.se iCalcreator 2.41.92//
CALSCALE:GREGORIAN
METHOD:PUBLISH
UID:64323631-6164-4738-b036-303630636165
X-WR-TIMEZONE:Europe/Berlin
X-LIC-LOCATION:Europe/Berlin
BEGIN:VEVENT
UID:557511-kulturportal@ortenaukultur.de
DTSTAMP:20260422T020854Z
DESCRIPTION:Kurzbeschreibung:\n Die Stadtkapelle Gengenbach unter der Leitu
 ng von Felix Bauert lädt herzlich ein zum Kurkonzert auf dem Gengenbacher 
 Marktplatz.\n Ort:\n Historischer Marktplatz Gengenbach\n Hauptstr.\, 7772
 3 Gengenbach\n Veranstalter:\n Stadtkapelle Gengenbach\n Termin:\n Beginn:
  26.04.2026\, 16:00 Uhr\n Ende: 26.04.2026\n Link:\n Zur Detailseite
DTSTART;TZID=Europe/Berlin:20260426T160000
DTEND;TZID=Europe/Berlin:20260426T190000
LOCATION:Historischer Marktplatz Gengenbach\, Hauptstr.\, 77723 Gengenbach
SUMMARY:Kurkonzert der Stadtkapelle Gengenbach\, Historischer Marktplatz Ge
 ngenbach
X-ALT-DESC;FMTTYPE=text/html:<strong>Kurzbeschreibung:</strong><br/>Die Sta
 dtkapelle Gengenbach unter der Leitung von Felix Bauert lädt herzlich ein 
 zum Kurkonzert auf dem Gengenbacher Marktplatz.<br /><strong>Ort:</strong>
 <br/>Historischer Marktplatz Gengenbach<br/>Hauptstr.\, 77723 Gengenbach<b
 r /><strong>Veranstalter:</strong><br/>Stadtkapelle Gengenbach<br /><stron
 g>Termin:</strong><br/>Beginn: 26.04.2026\, 16:00 Uhr<br/>Ende: 26.04.2026
 <br /><strong>Link:</strong><br/><a href='https://ortenaukultur.de/de/vera
 nstaltungen/detail/veranstaltung/id/557511-kurkonzert-der-stadtkapelle-gen
 genbach/?vt=1'>Zur Detailseite</a>
END:VEVENT
END:VCALENDAR
