BEGIN:VCALENDAR
VERSION:2.0
PRODID:-//ortenaukultur.de//NONSGML kigkonsult.se iCalcreator 2.41.92//
CALSCALE:GREGORIAN
METHOD:PUBLISH
UID:31386463-3138-4461-a438-643836393836
X-WR-TIMEZONE:Europe/Berlin
X-LIC-LOCATION:Europe/Berlin
BEGIN:VEVENT
UID:561250-kulturportal@ortenaukultur.de
DTSTAMP:20260421T201749Z
DESCRIPTION:Kurzbeschreibung:\n Ausstellung von Christine Jundt mit dem Tit
 el 'Schnipselpictures zum Entdecken und Träumens' im 2. Stock im Rathaus\n
  Ort:\n Rathaus Ettenheim\, 2. Obergeschoss\n Rohanstr. 16\, 77955 Ettenhe
 im\n Veranstalter:\n Stadt Ettenheim (allgemein)\n Termin:\n Beginn: 15.01
 .2026\n Ende: 15.01.2026\n Link:\n Zur Detailseite
DTSTART;TZID=Europe/Berlin:20260115T000000
DTEND;TZID=Europe/Berlin:20260115T030000
LOCATION:Rathaus Ettenheim\, 2. Obergeschoss\, Rohanstr. 16\, 77955 Ettenhe
 im
SUMMARY:Kunst im Rathaus - KIR \, Rathaus Ettenheim\, 2. Obergeschoss
X-ALT-DESC;FMTTYPE=text/html:<strong>Kurzbeschreibung:</strong><br/>Ausstel
 lung von Christine Jundt mit dem Titel 'Schnipselpictures zum Entdecken un
 d Träumens' im 2. Stock im Rathaus<br /><strong>Ort:</strong><br/>Rathaus 
 Ettenheim\, 2. Obergeschoss<br/>Rohanstr. 16\, 77955 Ettenheim<br /><stron
 g>Veranstalter:</strong><br/>Stadt Ettenheim (allgemein)<br /><strong>Term
 in:</strong><br/>Beginn: 15.01.2026<br/>Ende: 15.01.2026<br /><strong>Link
 :</strong><br/><a href='https://ortenaukultur.de/de/veranstaltungen/detail
 /veranstaltung/id/561250-kunst-im-rathaus-kir/?vt=1'>Zur Detailseite</a>
END:VEVENT
END:VCALENDAR
