BEGIN:VCALENDAR
VERSION:2.0
PRODID:-//ortenaukultur.de//NONSGML kigkonsult.se iCalcreator 2.41.92//
CALSCALE:GREGORIAN
METHOD:PUBLISH
UID:33353130-6338-4762-a235-386239643034
X-WR-TIMEZONE:Europe/Berlin
X-LIC-LOCATION:Europe/Berlin
BEGIN:VEVENT
UID:562434-kulturportal@ortenaukultur.de
DTSTAMP:20260421T233924Z
DESCRIPTION:Kurzbeschreibung:\n Auf dem 13. internationalen Straßenkulturfe
 stival wird vom 10. - 12. Juli in der Innenstadt ein buntes Programm für d
 ie ganze Familie gezeigt\n Ort:\n Innenstadt auf verschiedenen Plätzen\, E
 ttenheim\n Veranstalter:\n Unternehmen Ettenheim e.V. (Sch)\n Termin:\n Be
 ginn: 12.07.2026\, 13:00 Uhr\n Ende: 12.07.2026\n Link:\n Zur Detailseite
DTSTART;TZID=Europe/Berlin:20260712T130000
DTEND;TZID=Europe/Berlin:20260712T160000
LOCATION:Innenstadt auf verschiedenen Plätzen\, Ettenheim
SUMMARY:KuKuK - Kunst\, Kultur & Komik\, Innenstadt auf verschiedenen Plätz
 en
X-ALT-DESC;FMTTYPE=text/html:<strong>Kurzbeschreibung:</strong><br/>Auf dem
  13. internationalen Straßenkulturfestival wird vom 10. - 12. Juli in der 
 Innenstadt ein buntes Programm für die ganze Familie gezeigt<br /><strong>
 Ort:</strong><br/>Innenstadt auf verschiedenen Plätzen\, Ettenheim<br /><s
 trong>Veranstalter:</strong><br/>Unternehmen Ettenheim e.V. (Sch)<br /><st
 rong>Termin:</strong><br/>Beginn: 12.07.2026\, 13:00 Uhr<br/>Ende: 12.07.2
 026<br /><strong>Link:</strong><br/><a href='https://ortenaukultur.de/de/v
 eranstaltungen/detail/veranstaltung/id/562434-kukuk-kunst-kultur-komik/?vt
 =1'>Zur Detailseite</a>
END:VEVENT
END:VCALENDAR
