BEGIN:VCALENDAR
VERSION:2.0
PRODID:-//ortenaukultur.de//NONSGML kigkonsult.se iCalcreator 2.41.92//
CALSCALE:GREGORIAN
METHOD:PUBLISH
UID:31356361-6563-4533-b236-303061623232
X-WR-TIMEZONE:Europe/Berlin
X-LIC-LOCATION:Europe/Berlin
BEGIN:VEVENT
UID:566078-kulturportal@ortenaukultur.de
DTSTAMP:20260421T230444Z
DESCRIPTION:Kurzbeschreibung:\n Die kundige Stadtführerin Annemarie Friedri
 ch-Kirn geht mit Ihnen auf eine themenspezifische Entdeckungsreise zu Lahr
 er Ideen\, Besonderheiten und Entdeckungen.\n Ort:\n Treffpunkt: Rathauspl
 atz / Ecke Bürgerbüro\n Rathausplatz 4\, 77933 Lahr\n Veranstalter:\n Stad
 t Lahr\n Termin:\n Beginn: 02.05.2026\, 15:00 Uhr\n Ende: 02.05.2026\n Tic
 kets:\n \n https://erlebe.lahr.de/oeffentliche-fuehrungen-buchen.274465.ht
 m#/experience/FIT00020072495579273\n 5 € pro Person\n 60€ pro Gruppe / max
 . 25 Personen\n Ganzjährig individuell buchbar\n Anmeldung erforderlich\n 
 \n Stadtmarketing Lahr Telefon 07821/9100128 oder per Mail stadtmarketing@
 lahr.de\n \n Link:\n Zur Detailseite
DTSTART;TZID=Europe/Berlin:20260502T150000
DTEND;TZID=Europe/Berlin:20260502T180000
LOCATION:Treffpunkt: Rathausplatz / Ecke Bürgerbüro\, Rathausplatz 4\, 7793
 3 Lahr
SUMMARY:Stadtführung - „Des gibt‘s bloß in Lohr“ - Einmaliges\, Spannendes\
 , Neues in und um Lahr\, Rathausplatz
X-ALT-DESC;FMTTYPE=text/html:<strong>Kurzbeschreibung:</strong><br/>Die kun
 dige Stadtführerin Annemarie Friedrich-Kirn geht mit Ihnen auf eine themen
 spezifische Entdeckungsreise zu Lahrer Ideen\, Besonderheiten und Entdecku
 ngen. <br /><strong>Ort:</strong><br/>Treffpunkt: Rathausplatz / Ecke Bürg
 erbüro<br/>Rathausplatz 4\, 77933 Lahr<br /><strong>Veranstalter:</strong>
 <br/>Stadt Lahr<br /><strong>Termin:</strong><br/>Beginn: 02.05.2026\, 15:
 00 Uhr<br/>Ende: 02.05.2026<br /><strong>Tickets: </strong><br/><a  class=
 'wco_cb_subtitle_link'  id='ticketlink'  href='https://erlebe.lahr.de/oeff
 entliche-fuehrungen-buchen.274465.htm#/experience/FIT00020072495579273' ta
 rget='_blank' title='Öffnet externen Link in einem neuen Fenster'></a><br/
 >https://erlebe.lahr.de/oeffentliche-fuehrungen-buchen.274465.htm#/experie
 nce/FIT00020072495579273<br/>5 € pro Person<br />\n60€ pro Gruppe / max. 2
 5 Personen<br />\nGanzjährig individuell buchbar<br />\nAnmeldung erforder
 lich<br />\n<br />\nStadtmarketing Lahr Telefon 07821/9100128 oder per Mai
 l stadtmarketing@lahr.de <br />\n<br /><strong>Link:</strong><br/><a href=
 'https://ortenaukultur.de/de/veranstaltungen/detail/veranstaltung/id/56607
 8-stadtfuehrung-des-gibt-s-bloss-in-lohr-einmaliges-spannendes-neues-in-un
 d-um-lahr/?vt=1'>Zur Detailseite</a>
END:VEVENT
END:VCALENDAR
