BEGIN:VCALENDAR
VERSION:2.0
PRODID:-//ortenaukultur.de//NONSGML kigkonsult.se iCalcreator 2.41.92//
CALSCALE:GREGORIAN
METHOD:PUBLISH
UID:33323936-6637-4831-a435-623666353633
X-WR-TIMEZONE:Europe/Berlin
X-LIC-LOCATION:Europe/Berlin
BEGIN:VEVENT
UID:573245-kulturportal@ortenaukultur.de
DTSTAMP:20260421T205445Z
DESCRIPTION:Kurzbeschreibung:\n Die Musikfreunde Ettenheim laden herzlich z
 um Märchenkonzert ein\, erzählt von KIKA-Moderator Juri Tetzlaff und begle
 itet vom Holzbläserquintett ProFive.\n Ort:\n Foyer der Firma MPS\, Gutenb
 ergstr. 4\, 77955 Ettenheim\, Ettenheim\n Veranstalter:\n Musikfreunde Ett
 enheim e.V.\n Termin:\n Beginn: 03.10.2026\n Ende: 03.10.2026\n Tickets:\n
  Eintrittspreise: Erwachsene 13 Euro jedes Kind 7 Euro (altersunabhängig)
 \n Link:\n Zur Detailseite
DTSTART;TZID=Europe/Berlin:20261003T000000
DTEND;TZID=Europe/Berlin:20261003T030000
LOCATION:Foyer der Firma MPS\, Gutenbergstr. 4\, 77955 Ettenheim\, Ettenhei
 m
SUMMARY:Märchenkonzert: „Juris kleine Meerjungfrau'\, Foyer der Firma MPS\,
  Gutenbergstr. 4\, 77955 Ettenheim
X-ALT-DESC;FMTTYPE=text/html:<strong>Kurzbeschreibung:</strong><br/>Die Mus
 ikfreunde Ettenheim laden herzlich zum Märchenkonzert ein\, erzählt von KI
 KA-Moderator Juri Tetzlaff und begleitet vom Holzbläserquintett ProFive.<b
 r /><strong>Ort:</strong><br/>Foyer der Firma MPS\, Gutenbergstr. 4\, 7795
 5 Ettenheim\, Ettenheim<br /><strong>Veranstalter:</strong><br/>Musikfreun
 de Ettenheim e.V.<br /><strong>Termin:</strong><br/>Beginn: 03.10.2026<br/
 >Ende: 03.10.2026<br /><strong>Tickets: </strong><br/>Eintrittspreise: Erw
 achsene 13 Euro jedes Kind 7 Euro (altersunabhängig)<br /><strong>Link:</s
 trong><br/><a href='https://ortenaukultur.de/de/veranstaltungen/detail/ver
 anstaltung/id/573245-maerchenkonzert-juris-kleine-meerjungfrau/?vt=1'>Zur 
 Detailseite</a>
END:VEVENT
END:VCALENDAR
