BEGIN:VCALENDAR
VERSION:2.0
PRODID:-//ortenaukultur.de//NONSGML kigkonsult.se iCalcreator 2.41.92//
CALSCALE:GREGORIAN
METHOD:PUBLISH
UID:33326136-3436-4334-a131-393039376639
X-WR-TIMEZONE:Europe/Berlin
X-LIC-LOCATION:Europe/Berlin
BEGIN:VEVENT
UID:573254-kulturportal@ortenaukultur.de
DTSTAMP:20260421T215134Z
DESCRIPTION:Kurzbeschreibung:\n Schauspiel von Alfred Uhry. »Wir neigen daz
 u\, Erfolg eher nach … der Größe unserer Autos zu bestimmen als nach dem M
 aß unserer Menschlichkeit.« Martin Luther\n Ort:\n Bürgerhaus Neuer MarktE
 uropaplatz77815 Bühl\, Bühl\n Veranstalter:\n Bürgerhaus Neuer Markt\n Ter
 min:\n Beginn: 07.05.2026\, 19:30 Uhr\n Ende: 07.05.2026\n Tickets:\n Tick
 ets\n Vorverkauf KAT I 26\,00 EURO KAT II 24\,00 EURO KAT III 22\,00 EURO
 \n Abendkasse KAT I 28\,00 EURO KAT II 26\,00 EURO KAT III 24\,00 EURO\n L
 ink:\n Zur Detailseite
DTSTART;TZID=Europe/Berlin:20260507T193000
DTEND;TZID=Europe/Berlin:20260507T223000
LOCATION:Bürgerhaus Neuer MarktEuropaplatz77815 Bühl\, Bühl
SUMMARY:Miss Daisy und ihr Chauffeur\, Bürgerhaus Neuer MarktEuropaplatz778
 15 Bühl
X-ALT-DESC;FMTTYPE=text/html:<strong>Kurzbeschreibung:</strong><br/>Schausp
 iel von Alfred Uhry. »Wir neigen dazu\, Erfolg eher nach … der Größe unser
 er Autos zu bestimmen als nach dem Maß unserer Menschlichkeit.« Martin Lut
 her<br /><strong>Ort:</strong><br/>Bürgerhaus Neuer MarktEuropaplatz77815 
 Bühl\, Bühl<br /><strong>Veranstalter:</strong><br/>Bürgerhaus Neuer Markt
 <br /><strong>Termin:</strong><br/>Beginn: 07.05.2026\, 19:30 Uhr<br/>Ende
 : 07.05.2026<br /><strong>Tickets: </strong><br/><a  class='wco_cb_subtitl
 e_link'  id='ticketlink'  href='mailto:info.bnm@buehl.de' target='_blank' 
 >Tickets</a><br/>Vorverkauf        KAT I 26\,00 EURO | KAT II 24\,00 EURO 
 | KAT III 22\,00 EURO<br />\nAbendkasse     KAT I 28\,00 EURO | KAT II 26\
 ,00 EURO | KAT III 24\,00 EURO <br /><strong>Link:</strong><br/><a href='h
 ttps://ortenaukultur.de/de/veranstaltungen/detail/veranstaltung/id/573254-
 miss-daisy-und-ihr-chauffeur/?vt=1'>Zur Detailseite</a>
END:VEVENT
END:VCALENDAR
