BEGIN:VCALENDAR
VERSION:2.0
PRODID:-//ortenaukultur.de//NONSGML kigkonsult.se iCalcreator 2.41.92//
CALSCALE:GREGORIAN
METHOD:PUBLISH
UID:39336663-3766-4264-b330-653934333166
X-WR-TIMEZONE:Europe/Berlin
X-LIC-LOCATION:Europe/Berlin
BEGIN:VEVENT
UID:576005-kulturportal@ortenaukultur.de
DTSTAMP:20260421T234112Z
DESCRIPTION:Kurzbeschreibung:\n Heimspieltermine des SC Sand in der 2. Frau
 en-Bundesliga. Die Spiele finden in der ADAMS Arena in Willstätt-Sand stat
 t.\n Ort:\n Adams Arena\n Kühnmatt 3\, 77731 Willstätt-Sand\n Veranstalter
 :\n SC Sand 1946 e.V.\n Termin:\n Beginn: 17.05.2026\, 14:00 Uhr\n Ende: 1
 7.05.2026\n Link:\n Zur Detailseite
DTSTART;TZID=Europe/Berlin:20260517T140000
DTEND;TZID=Europe/Berlin:20260517T170000
LOCATION:Adams Arena\, Kühnmatt 3\, 77731 Willstätt-Sand
SUMMARY:Heimspiel SC Sand 2. Frauen-Bundesliga\, Adams Arena
X-ALT-DESC;FMTTYPE=text/html:<strong>Kurzbeschreibung:</strong><br/>Heimspi
 eltermine des SC Sand in der 2. Frauen-Bundesliga. Die Spiele finden in de
 r ADAMS Arena in Willstätt-Sand statt.<br /><strong>Ort:</strong><br/>Adam
 s Arena<br/>Kühnmatt 3\, 77731 Willstätt-Sand<br /><strong>Veranstalter:</
 strong><br/>SC Sand 1946 e.V. <br /><strong>Termin:</strong><br/>Beginn: 1
 7.05.2026\, 14:00 Uhr<br/>Ende: 17.05.2026<br /><strong>Link:</strong><br/
 ><a href='https://ortenaukultur.de/de/veranstaltungen/detail/veranstaltung
 /id/576005-heimspiel-sc-sand-2-frauen-bundesliga/?vt=1'>Zur Detailseite</a
 >
END:VEVENT
END:VCALENDAR
