BEGIN:VCALENDAR
VERSION:2.0
PRODID:-//ortenaukultur.de//NONSGML kigkonsult.se iCalcreator 2.41.92//
CALSCALE:GREGORIAN
METHOD:PUBLISH
UID:38333465-3831-4434-a366-313337323734
X-WR-TIMEZONE:Europe/Berlin
X-LIC-LOCATION:Europe/Berlin
BEGIN:VEVENT
UID:576245-kulturportal@ortenaukultur.de
DTSTAMP:20260421T165613Z
DESCRIPTION:Kurzbeschreibung:\n Kunstkurs für Erwachsene im Atelier der Kun
 stschule Offenburg im Kulturhaus Kehl\n Ort:\n Atelier im Kulturhaus Kehl\
 , Am Läger 12\, 77694\, Kehl\n Veranstalter:\n KUNSTSCHULE Offenburg\n Ter
 min:\n Beginn: 18.10.2025\, 09:30 Uhr\n Ende: 18.10.2025\n Link:\n Zur Det
 ailseite
DTSTART;TZID=Europe/Berlin:20251018T093000
DTEND;TZID=Europe/Berlin:20251018T123000
LOCATION:Atelier im Kulturhaus Kehl\, Am Läger 12\, 77694\, Kehl
SUMMARY:Basisstudium Malerei und Grafik\, Atelier im Kulturhaus Kehl\, Am L
 äger 12\, 77694
X-ALT-DESC;FMTTYPE=text/html:<strong>Kurzbeschreibung:</strong><br/>Kunstku
 rs für Erwachsene im Atelier der Kunstschule Offenburg im Kulturhaus Kehl 
 <br /><strong>Ort:</strong><br/>Atelier im Kulturhaus Kehl\, Am Läger 12\,
  77694\, Kehl<br /><strong>Veranstalter:</strong><br/>KUNSTSCHULE Offenbur
 g<br /><strong>Termin:</strong><br/>Beginn: 18.10.2025\, 09:30 Uhr<br/>End
 e: 18.10.2025<br /><strong>Link:</strong><br/><a href='https://ortenaukult
 ur.de/de/veranstaltungen/detail/veranstaltung/id/576245-basisstudium-maler
 ei-und-grafik/?vt=1'>Zur Detailseite</a>
END:VEVENT
END:VCALENDAR
