BEGIN:VCALENDAR
VERSION:2.0
PRODID:-//ortenaukultur.de//NONSGML kigkonsult.se iCalcreator 2.41.92//
CALSCALE:GREGORIAN
METHOD:PUBLISH
UID:65356262-6334-4961-b961-343461376337
X-WR-TIMEZONE:Europe/Berlin
X-LIC-LOCATION:Europe/Berlin
BEGIN:VEVENT
UID:576248-kulturportal@ortenaukultur.de
DTSTAMP:20260422T011918Z
DESCRIPTION:Kurzbeschreibung:\n Fortlaufender Kunstkurs für Kinder und Juge
 ndliche (11 - 17 Jahre) im Atelier der Kunstschule Offenburg im Kulturhaus
  Kehl\n Ort:\n Atelier im Kulturhaus Kehl\, Am Läger 12\, 77694\, Kehl\n V
 eranstalter:\n KUNSTSCHULE Offenburg\n Termin:\n Beginn: 18.09.2025\, 16:0
 0 Uhr\n Ende: 18.09.2025\n Link:\n Zur Detailseite
DTSTART;TZID=Europe/Berlin:20250918T160000
DTEND;TZID=Europe/Berlin:20250918T190000
LOCATION:Atelier im Kulturhaus Kehl\, Am Läger 12\, 77694\, Kehl
SUMMARY:Offenes Jugendatelier\, Atelier im Kulturhaus Kehl\, Am Läger 12\, 
 77694
X-ALT-DESC;FMTTYPE=text/html:<strong>Kurzbeschreibung:</strong><br/>Fortlau
 fender Kunstkurs für Kinder und Jugendliche (11 - 17 Jahre) im Atelier der
  Kunstschule Offenburg im Kulturhaus Kehl <br /><strong>Ort:</strong><br/>
 Atelier im Kulturhaus Kehl\, Am Läger 12\, 77694\, Kehl<br /><strong>Veran
 stalter:</strong><br/>KUNSTSCHULE Offenburg<br /><strong>Termin:</strong><
 br/>Beginn: 18.09.2025\, 16:00 Uhr<br/>Ende: 18.09.2025<br /><strong>Link:
 </strong><br/><a href='https://ortenaukultur.de/de/veranstaltungen/detail/
 veranstaltung/id/576248-offenes-jugendatelier/?vt=1'>Zur Detailseite</a>
END:VEVENT
END:VCALENDAR
