BEGIN:VCALENDAR
VERSION:2.0
PRODID:-//ortenaukultur.de//NONSGML kigkonsult.se iCalcreator 2.41.92//
CALSCALE:GREGORIAN
METHOD:PUBLISH
UID:64303531-3061-4038-a237-663861336335
X-WR-TIMEZONE:Europe/Berlin
X-LIC-LOCATION:Europe/Berlin
BEGIN:VEVENT
UID:580330-kulturportal@ortenaukultur.de
DTSTAMP:20260421T224832Z
DESCRIPTION:Kurzbeschreibung:\n Nach dem Erntedankgottesdienst in St. Mauri
 tius und dem feierlichen Erntezug trifft man sich zum gemütlichen Beisamme
 nsein in der Stadthalle.\n Ort:\n Stadthalle\n Gustav-Rivinius-Platz 3\, 7
 7756 Hausach\n Veranstalter:\n Trachten- und Volkstanzgruppe\n Termin:\n B
 eginn: 04.10.2026\, 11:00 Uhr\n Ende: 04.10.2026\n Tickets:\n Eintritt fre
 i\n Link:\n Zur Detailseite
DTSTART;TZID=Europe/Berlin:20261004T110000
DTEND;TZID=Europe/Berlin:20261004T140000
LOCATION:Stadthalle\, Gustav-Rivinius-Platz 3\, 77756 Hausach
SUMMARY:Erntedankfest der Trachten- und Volkstanzgruppe \, Stadthalle
X-ALT-DESC;FMTTYPE=text/html:<strong>Kurzbeschreibung:</strong><br/>Nach de
 m Erntedankgottesdienst in St. Mauritius und dem feierlichen Erntezug trif
 ft man sich zum gemütlichen Beisammensein in der Stadthalle. <br /><strong
 >Ort:</strong><br/>Stadthalle<br/>Gustav-Rivinius-Platz 3\, 77756 Hausach<
 br /><strong>Veranstalter:</strong><br/>Trachten- und Volkstanzgruppe<br /
 ><strong>Termin:</strong><br/>Beginn: 04.10.2026\, 11:00 Uhr<br/>Ende: 04.
 10.2026<br /><strong>Tickets: </strong><br/>Eintritt frei<br /><strong>Lin
 k:</strong><br/><a href='https://ortenaukultur.de/de/veranstaltungen/detai
 l/veranstaltung/id/580330-erntedankfest-der-trachten-und-volkstanzgruppe/?
 vt=1'>Zur Detailseite</a>
END:VEVENT
END:VCALENDAR
