BEGIN:VCALENDAR
VERSION:2.0
PRODID:-//ortenaukultur.de//NONSGML kigkonsult.se iCalcreator 2.41.92//
CALSCALE:GREGORIAN
METHOD:PUBLISH
UID:62616563-3539-4032-b862-623536353038
X-WR-TIMEZONE:Europe/Berlin
X-LIC-LOCATION:Europe/Berlin
BEGIN:VEVENT
UID:581569-kulturportal@ortenaukultur.de
DTSTAMP:20260422T015735Z
DESCRIPTION:Kurzbeschreibung:\n Eine Geschichte von Jürgen von Bülow über L
 ebenslust\, List und Leidenschaft - mitten im Schwarzwald. Inszeniert von 
 der Burgbühne Oberkirch.\n Ort:\n im Garten des 'freche hus'\n Apothekerga
 sse 7\, 77704 Oberkirch\n Veranstalter:\n Burgbühne Oberkirch\n Termin:\n 
 Beginn: 20.06.2026\, 20:00 Uhr\n Ende: 20.06.2026\n Tickets:\n Tickets kau
 fen\n https://ortenaukultur.reservix.de/p/reservix/event/2523765\n Preise:
 \n bis 16\,00 € + Ermäßigung\n *Preise inkl. MwSt.\n \n Link:\n Zur Detail
 seite
DTSTART;TZID=Europe/Berlin:20260620T200000
DTEND;TZID=Europe/Berlin:20260620T230000
LOCATION:im Garten des 'freche hus'\, Apothekergasse 7\, 77704 Oberkirch
SUMMARY:Annas Herzstück (Freilichttheater)\, im Garten des 'freche hus'
X-ALT-DESC;FMTTYPE=text/html:<strong>Kurzbeschreibung:</strong><br/>Eine Ge
 schichte von Jürgen von Bülow über Lebenslust\, List und Leidenschaft - mi
 tten im Schwarzwald. Inszeniert von der Burgbühne Oberkirch.<br /><strong>
 Ort:</strong><br/>im Garten des 'freche hus'<br/>Apothekergasse 7\, 77704 
 Oberkirch<br /><strong>Veranstalter:</strong><br/>Burgbühne Oberkirch<br /
 ><strong>Termin:</strong><br/>Beginn: 20.06.2026\, 20:00 Uhr<br/>Ende: 20.
 06.2026<br /><strong>Tickets: </strong><br/><a rel='asdf' href='https://or
 tenaukultur.de/de/detail/tickets/id/581569-annas-herzstueck-freilichttheat
 er/?follow=https%253A%252F%252Fortenaukultur.reservix.de%252Fp%252Freservi
 x%252Fevent%252F2523765' target='_blank' title='' id='ticketlink'>Tickets 
 kaufen</a><br/>https://ortenaukultur.reservix.de/p/reservix/event/2523765<
 br/><b>Preise: </b><br />bis 16\,00 &euro\;&nbsp\; + Ermäßigung<br />*Prei
 se inkl. MwSt.<br /><br /><strong>Link:</strong><br/><a href='https://orte
 naukultur.de/de/veranstaltungen/detail/veranstaltung/id/581569-annas-herzs
 tueck-freilichttheater/?vt=1'>Zur Detailseite</a>
END:VEVENT
END:VCALENDAR
