BEGIN:VCALENDAR
VERSION:2.0
PRODID:-//ortenaukultur.de//NONSGML kigkonsult.se iCalcreator 2.41.92//
CALSCALE:GREGORIAN
METHOD:PUBLISH
UID:36656130-3339-4230-b561-656134633535
X-WR-TIMEZONE:Europe/Berlin
X-LIC-LOCATION:Europe/Berlin
BEGIN:VEVENT
UID:581588-kulturportal@ortenaukultur.de
DTSTAMP:20260422T220358Z
DESCRIPTION:Kurzbeschreibung:\n Die kreative Veranstaltungsreihe der Mediat
 hek für Erwachsene. Egal ob Häkeln\, Malen\, Nähen\, Sticken\, Stricken\, 
 Zeichnen oder oder oder...\n Ort:\n Mediathek\n Hornisgrindestraße 2\, 777
 31 Willstätt\n Veranstalter:\n Mediathek Willstätt\n Termin:\n Beginn: 21.
 07.2026\, 16:00 Uhr\n Ende: 21.07.2026\n Tickets:\n Der Eintritt ist frei\
 , eine Anmeldung ist nicht erforderlich.\n Link:\n Zur Detailseite
DTSTART;TZID=Europe/Berlin:20260721T160000
DTEND;TZID=Europe/Berlin:20260721T190000
LOCATION:Mediathek\, Hornisgrindestraße 2\, 77731 Willstätt
SUMMARY:Kreative Doppelstunde\, Mediathek
X-ALT-DESC;FMTTYPE=text/html:<strong>Kurzbeschreibung:</strong><br/>Die kre
 ative Veranstaltungsreihe der Mediathek für Erwachsene. Egal ob Häkeln\, M
 alen\, Nähen\, Sticken\, Stricken\, Zeichnen oder oder oder...<br /><stron
 g>Ort:</strong><br/>Mediathek<br/>Hornisgrindestraße 2\, 77731 Willstätt<b
 r /><strong>Veranstalter:</strong><br/>Mediathek Willstätt<br /><strong>Te
 rmin:</strong><br/>Beginn: 21.07.2026\, 16:00 Uhr<br/>Ende: 21.07.2026<br 
 /><strong>Tickets: </strong><br/>Der Eintritt ist frei\, eine Anmeldung is
 t nicht erforderlich.<br /><strong>Link:</strong><br/><a href='https://ort
 enaukultur.de/de/veranstaltungen/detail/veranstaltung/id/581588-kreative-d
 oppelstunde/?vt=1'>Zur Detailseite</a>
END:VEVENT
END:VCALENDAR
