BEGIN:VCALENDAR
VERSION:2.0
PRODID:-//ortenaukultur.de//NONSGML kigkonsult.se iCalcreator 2.41.92//
CALSCALE:GREGORIAN
METHOD:PUBLISH
UID:64393834-3363-4738-a561-626233303138
X-WR-TIMEZONE:Europe/Berlin
X-LIC-LOCATION:Europe/Berlin
BEGIN:VEVENT
UID:581662-kulturportal@ortenaukultur.de
DTSTAMP:20260421T201828Z
DESCRIPTION:Kurzbeschreibung:\n Gemeinsam entdecken wir Geschichten in Büch
 ern oder auf dem Bildschirm. Im Anschluss basteln oder spielen wir etwas p
 assendes.\n Ort:\n Mediathek\n Hornisgrindestraße 2\, 77731 Willstätt\n Ve
 ranstalter:\n Mediathek Willstätt\n Termin:\n Beginn: 10.10.2026\, 10:00 U
 hr\n Ende: 10.10.2026\n Tickets:\n Der Eintritt ist frei\, eine Anmeldung 
 ist nicht erforderlich.\n Link:\n Zur Detailseite
DTSTART;TZID=Europe/Berlin:20261010T100000
DTEND;TZID=Europe/Berlin:20261010T130000
LOCATION:Mediathek\, Hornisgrindestraße 2\, 77731 Willstätt
SUMMARY:Lesen - Basteln - Spielen\, Mediathek
X-ALT-DESC;FMTTYPE=text/html:<strong>Kurzbeschreibung:</strong><br/>Gemeins
 am entdecken wir Geschichten in Büchern oder auf dem Bildschirm. Im Anschl
 uss basteln oder spielen wir etwas passendes.<br /><strong>Ort:</strong><b
 r/>Mediathek<br/>Hornisgrindestraße 2\, 77731 Willstätt<br /><strong>Veran
 stalter:</strong><br/>Mediathek Willstätt<br /><strong>Termin:</strong><br
 />Beginn: 10.10.2026\, 10:00 Uhr<br/>Ende: 10.10.2026<br /><strong>Tickets
 : </strong><br/>Der Eintritt ist frei\, eine Anmeldung ist nicht erforderl
 ich.<br /><strong>Link:</strong><br/><a href='https://ortenaukultur.de/de/
 veranstaltungen/detail/veranstaltung/id/581662-lesen-basteln-spielen/?vt=1
 '>Zur Detailseite</a>
END:VEVENT
END:VCALENDAR
