BEGIN:VCALENDAR
VERSION:2.0
PRODID:-//ortenaukultur.de//NONSGML kigkonsult.se iCalcreator 2.41.92//
CALSCALE:GREGORIAN
METHOD:PUBLISH
UID:36396434-3531-4935-b034-323262343163
X-WR-TIMEZONE:Europe/Berlin
X-LIC-LOCATION:Europe/Berlin
BEGIN:VEVENT
UID:581697-kulturportal@ortenaukultur.de
DTSTAMP:20260422T162521Z
DESCRIPTION:Kurzbeschreibung:\n Eine unterhaltsame Mischung aus Lesung\, Ka
 barett\, Comedy und Chanson\, pointiert\, ehrlich und herrlich menschlich.
 \n Ort:\n KKW Kulturkeller in der Winterschule\n Stammgässle 2\, 77955 Ett
 enheim\n Veranstalter:\n KKW\, Kulturkeller in der Winterschule\n Termin:
 \n Beginn: 24.10.2026\, 20:00 Uhr\n Ende: 24.10.2026\n Tickets:\n 16\,- € 
 Vorverkauf\, 17\,- € Abendkasse\, ABO-Preis möglich\n Link:\n Zur Detailse
 ite
DTSTART;TZID=Europe/Berlin:20261024T200000
DTEND;TZID=Europe/Berlin:20261024T230000
LOCATION:KKW Kulturkeller in der Winterschule\, Stammgässle 2\, 77955 Etten
 heim
SUMMARY:Ansgar Hufnagel „Irgendwas ist immer“\, KKW Kulturkeller in der Win
 terschule
X-ALT-DESC;FMTTYPE=text/html:<strong>Kurzbeschreibung:</strong><br/>Eine un
 terhaltsame Mischung aus Lesung\, Kabarett\, Comedy und Chanson\, pointier
 t\, ehrlich und herrlich menschlich.<br /><strong>Ort:</strong><br/>KKW Ku
 lturkeller in der Winterschule<br/>Stammgässle 2\, 77955 Ettenheim<br /><s
 trong>Veranstalter:</strong><br/>KKW\, Kulturkeller in der Winterschule<br
  /><strong>Termin:</strong><br/>Beginn: 24.10.2026\, 20:00 Uhr<br/>Ende: 2
 4.10.2026<br /><strong>Tickets: </strong><br/>16\,- € Vorverkauf\, 17\,- €
  Abendkasse\, ABO-Preis möglich<br /><strong>Link:</strong><br/><a href='h
 ttps://ortenaukultur.de/de/veranstaltungen/detail/veranstaltung/id/581697-
 ansgar-hufnagel-irgendwas-ist-immer/?vt=1'>Zur Detailseite</a>
END:VEVENT
END:VCALENDAR
