BEGIN:VCALENDAR
VERSION:2.0
PRODID:-//ortenaukultur.de//NONSGML kigkonsult.se iCalcreator 2.41.92//
CALSCALE:GREGORIAN
METHOD:PUBLISH
UID:36356531-3466-4338-a635-343862646365
X-WR-TIMEZONE:Europe/Berlin
X-LIC-LOCATION:Europe/Berlin
BEGIN:VEVENT
UID:581698-kulturportal@ortenaukultur.de
DTSTAMP:20260421T190041Z
DESCRIPTION:Kurzbeschreibung:\n Einen Abend voller unerwarteter Pointen\, e
 ingängiger Melodien und einem sympathischen Komiker in Bestform!\n Ort:\n 
 KKW Kulturkeller in der Winterschule\n Stammgässle 2\, 77955 Ettenheim\n V
 eranstalter:\n KKW\, Kulturkeller in der Winterschule\n Termin:\n Beginn: 
 11.12.2026\, 20:00 Uhr\n Ende: 11.12.2026\n Tickets:\n 16\,- € Vorverkauf\
 , 17\,- € Abendkasse\, ABO-Preis möglich\n Link:\n Zur Detailseite
DTSTART;TZID=Europe/Berlin:20261211T200000
DTEND;TZID=Europe/Berlin:20261211T230000
LOCATION:KKW Kulturkeller in der Winterschule\, Stammgässle 2\, 77955 Etten
 heim
SUMMARY:Jens Heinrich Claassen „Keine Ursache“\, KKW Kulturkeller in der Wi
 nterschule
X-ALT-DESC;FMTTYPE=text/html:<strong>Kurzbeschreibung:</strong><br/>Einen A
 bend voller unerwarteter Pointen\, eingängiger Melodien und einem sympathi
 schen Komiker in Bestform!<br /><strong>Ort:</strong><br/>KKW Kulturkeller
  in der Winterschule<br/>Stammgässle 2\, 77955 Ettenheim<br /><strong>Vera
 nstalter:</strong><br/>KKW\, Kulturkeller in der Winterschule<br /><strong
 >Termin:</strong><br/>Beginn: 11.12.2026\, 20:00 Uhr<br/>Ende: 11.12.2026<
 br /><strong>Tickets: </strong><br/>16\,- € Vorverkauf\, 17\,- € Abendkass
 e\, ABO-Preis möglich<br /><strong>Link:</strong><br/><a href='https://ort
 enaukultur.de/de/veranstaltungen/detail/veranstaltung/id/581698-jens-heinr
 ich-claassen-keine-ursache/?vt=1'>Zur Detailseite</a>
END:VEVENT
END:VCALENDAR
