BEGIN:VCALENDAR
VERSION:2.0
PRODID:-//ortenaukultur.de//NONSGML kigkonsult.se iCalcreator 2.41.92//
CALSCALE:GREGORIAN
METHOD:PUBLISH
UID:31306262-6237-4362-b734-396239326539
X-WR-TIMEZONE:Europe/Berlin
X-LIC-LOCATION:Europe/Berlin
BEGIN:VEVENT
UID:582058-kulturportal@ortenaukultur.de
DTSTAMP:20260425T134507Z
DESCRIPTION:Kurzbeschreibung:\n Sich´s gued guh losse! Un ä wenig ebbis i´k
 aufe! Mit Bewirtung der Landfrauen. Kirchplatz.\n Ort:\n Kirchplatz Nordra
 ch\n Im Dorf 29\, 77787 Nordrach\n Veranstalter:\n Landfrauen Ortsverein N
 ordrach\n Termin:\n Beginn: 26.09.2026\n Ende: 26.09.2026\n Link:\n Zur De
 tailseite
DTSTART;TZID=Europe/Berlin:20260926T000000
DTEND;TZID=Europe/Berlin:20260926T030000
LOCATION:Kirchplatz Nordrach\, Im Dorf 29\, 77787 Nordrach
SUMMARY:Herbstmarkt der Nordracher Landfrauen.\, Kirchplatz Nordrach
X-ALT-DESC;FMTTYPE=text/html:<strong>Kurzbeschreibung:</strong><br/>Sich´s 
 gued guh losse! Un ä wenig ebbis i´kaufe! Mit Bewirtung der Landfrauen. Ki
 rchplatz.<br /><strong>Ort:</strong><br/>Kirchplatz Nordrach<br/>Im Dorf 2
 9\, 77787 Nordrach<br /><strong>Veranstalter:</strong><br/>Landfrauen Orts
 verein Nordrach<br /><strong>Termin:</strong><br/>Beginn: 26.09.2026<br/>E
 nde: 26.09.2026<br /><strong>Link:</strong><br/><a href='https://ortenauku
 ltur.de/de/veranstaltungen/detail/veranstaltung/id/582058-herbstmarkt-der-
 nordracher-landfrauen/?vt=1'>Zur Detailseite</a>
END:VEVENT
END:VCALENDAR
