BEGIN:VCALENDAR
VERSION:2.0
PRODID:-//ortenaukultur.de//NONSGML kigkonsult.se iCalcreator 2.41.92//
CALSCALE:GREGORIAN
METHOD:PUBLISH
UID:30373730-6266-4864-a233-393533313932
X-WR-TIMEZONE:Europe/Berlin
X-LIC-LOCATION:Europe/Berlin
BEGIN:VEVENT
UID:582905-kulturportal@ortenaukultur.de
DTSTAMP:20260422T022121Z
DESCRIPTION:Kurzbeschreibung:\n Flohmärkte in der Innenstadt\n Ort:\n Innen
 stadt\n Hauptstraße\, 77652 Offenburg\n Veranstalter:\n Flohknut\n Termin:
 \n Beginn: 13.08.2026\n Ende: 13.08.2026\n Tickets:\n Veranstalter: 'Flohk
 nut'\, Knut Weißenrieder. Anmeldungen unter 0781 - 967 3898 oder per Mail 
 an knut@flohknut.de.\n Weitere Infos unter: http://www.flohknut.de.\n Link
 :\n Zur Detailseite
DTSTART;TZID=Europe/Berlin:20260813T000000
DTEND;TZID=Europe/Berlin:20260813T030000
LOCATION:Innenstadt\, Hauptstraße\, 77652 Offenburg
SUMMARY:Flohmarkt in der Innenstadt\, Rathausplatz Offenburg
X-ALT-DESC;FMTTYPE=text/html:<strong>Kurzbeschreibung:</strong><br/>Flohmär
 kte in der Innenstadt <br /><strong>Ort:</strong><br/>Innenstadt<br/>Haupt
 straße\, 77652 Offenburg<br /><strong>Veranstalter:</strong><br/>Flohknut<
 br /><strong>Termin:</strong><br/>Beginn: 13.08.2026<br/>Ende: 13.08.2026<
 br /><strong>Tickets: </strong><br/>Veranstalter: &quot\;Flohknut&quot\;\,
  Knut Weißenrieder. Anmeldungen unter 0781 - 967 3898 oder per Mail an knu
 t@flohknut.de. <br />\nWeitere Infos unter: http://www.flohknut.de.<br /><
 strong>Link:</strong><br/><a href='https://ortenaukultur.de/de/veranstaltu
 ngen/detail/veranstaltung/id/582905-flohmarkt-in-der-innenstadt/?vt=1'>Zur
  Detailseite</a>
END:VEVENT
END:VCALENDAR
