BEGIN:VCALENDAR
VERSION:2.0
PRODID:-//ortenaukultur.de//NONSGML kigkonsult.se iCalcreator 2.41.92//
CALSCALE:GREGORIAN
METHOD:PUBLISH
UID:31383565-3431-4365-b438-386630393430
X-WR-TIMEZONE:Europe/Berlin
X-LIC-LOCATION:Europe/Berlin
BEGIN:VEVENT
UID:583622-kulturportal@ortenaukultur.de
DTSTAMP:20260422T011725Z
DESCRIPTION:Kurzbeschreibung:\n Graf Heinrich VI zu Fürstenberg begrüßt die
  Gäste persönlich und lädt sie an seine Rittertafel ein. Für das leibliche
  Wohl ist gesorgt.\n Ort:\n Burg Husen\n Burgruine Husen\, 77756 Hausach\n
  Veranstalter:\n Hausach Kultur- und Tourismusbüro\n Termin:\n Beginn: 05.
 07.2026\, 13:00 Uhr\n Ende: 05.07.2026\n Tickets:\n Eintritt frei\n Link:
 \n Zur Detailseite
DTSTART;TZID=Europe/Berlin:20260705T130000
DTEND;TZID=Europe/Berlin:20260705T160000
LOCATION:Burg Husen\, Burgruine Husen\, 77756 Hausach
SUMMARY:BURGerLEBEN  \, Burg Husen
X-ALT-DESC;FMTTYPE=text/html:<strong>Kurzbeschreibung:</strong><br/>Graf He
 inrich VI zu Fürstenberg begrüßt die Gäste persönlich und lädt sie an sein
 e Rittertafel ein. \nFür das leibliche Wohl ist gesorgt.<br /><strong>Ort:
 </strong><br/>Burg Husen<br/>Burgruine Husen\, 77756 Hausach<br /><strong>
 Veranstalter:</strong><br/>Hausach Kultur- und Tourismusbüro<br /><strong>
 Termin:</strong><br/>Beginn: 05.07.2026\, 13:00 Uhr<br/>Ende: 05.07.2026<b
 r /><strong>Tickets: </strong><br/>Eintritt frei<br /><strong>Link:</stron
 g><br/><a href='https://ortenaukultur.de/de/veranstaltungen/detail/veranst
 altung/id/583622-burgerleben/?vt=1'>Zur Detailseite</a>
END:VEVENT
END:VCALENDAR
