BEGIN:VCALENDAR
VERSION:2.0
PRODID:-//ortenaukultur.de//NONSGML kigkonsult.se iCalcreator 2.41.92//
CALSCALE:GREGORIAN
METHOD:PUBLISH
UID:35613265-3066-4330-a161-353961616530
X-WR-TIMEZONE:Europe/Berlin
X-LIC-LOCATION:Europe/Berlin
BEGIN:VEVENT
UID:583645-kulturportal@ortenaukultur.de
DTSTAMP:20260422T005520Z
DESCRIPTION:Kurzbeschreibung:\n Die Musikkapelle Wallburg lädt zum Kissenko
 nzert in die Festhalle ein.\n Ort:\n Turn- und Festhalle Wallburg\n Ortsst
 r. 2\, 77955 Ettenheim-Wallburg\n Veranstalter:\n Musikkapelle Wallburg\n 
 Termin:\n Beginn: 22.11.2026\, 14:00 Uhr\n Ende: 22.11.2026\n Link:\n Zur 
 Detailseite
DTSTART;TZID=Europe/Berlin:20261122T140000
DTEND;TZID=Europe/Berlin:20261122T170000
LOCATION:Turn- und Festhalle Wallburg\, Ortsstr. 2\, 77955 Ettenheim-Wallbu
 rg
SUMMARY:Kissenkonzert für Kinder\, Turn- und Festhalle Wallburg
X-ALT-DESC;FMTTYPE=text/html:<strong>Kurzbeschreibung:</strong><br/>Die Mus
 ikkapelle Wallburg lädt zum Kissenkonzert in die Festhalle ein.<br /><stro
 ng>Ort:</strong><br/>Turn- und Festhalle Wallburg<br/>Ortsstr. 2\, 77955 E
 ttenheim-Wallburg<br /><strong>Veranstalter:</strong><br/>Musikkapelle Wal
 lburg<br /><strong>Termin:</strong><br/>Beginn: 22.11.2026\, 14:00 Uhr<br/
 >Ende: 22.11.2026<br /><strong>Link:</strong><br/><a href='https://ortenau
 kultur.de/de/veranstaltungen/detail/veranstaltung/id/583645-kissenkonzert-
 fuer-kinder/?vt=1'>Zur Detailseite</a>
END:VEVENT
END:VCALENDAR
