BEGIN:VCALENDAR
VERSION:2.0
PRODID:-//ortenaukultur.de//NONSGML kigkonsult.se iCalcreator 2.41.92//
CALSCALE:GREGORIAN
METHOD:PUBLISH
UID:64373134-3065-4466-b637-613863643735
X-WR-TIMEZONE:Europe/Berlin
X-LIC-LOCATION:Europe/Berlin
BEGIN:VEVENT
UID:583683-kulturportal@ortenaukultur.de
DTSTAMP:20260422T110742Z
DESCRIPTION:Kurzbeschreibung:\n Führung nach Straßburg zum Sitz zahlreicher
  Europäischer Institutionen und anschließender Innenbesichtigung im Europa
 parlament.\n Ort:\n Innenstadt\n Marktplatz / Hauptstraße\, 77694 Kehl\n V
 eranstalter:\n Kehl Marketing GmbH\n Termin:\n Beginn: 01.10.2026\n Ende: 
 01.10.2026\n Tickets:\n Tickets\n https://kehl-marketing-gmbh.reservix.de/
 events\n 16\,90 Euro inkl. Headset und kulinarische Begrüßung\n \n Tram-Fa
 hrkarte unbedingt separat dazu kaufen.\n Ausweis unbedingt mit bringen.\n 
 Link:\n Zur Detailseite
DTSTART;TZID=Europe/Berlin:20261001T000000
DTEND;TZID=Europe/Berlin:20261001T030000
LOCATION:Innenstadt\, Marktplatz / Hauptstraße\, 77694 Kehl
SUMMARY:Führung 'Europäisches Straßburg'\, Innenstadt
X-ALT-DESC;FMTTYPE=text/html:<strong>Kurzbeschreibung:</strong><br/>Führung
  nach Straßburg zum Sitz zahlreicher Europäischer Institutionen und anschl
 ießender Innenbesichtigung im Europaparlament. <br /><strong>Ort:</strong>
 <br/>Innenstadt<br/>Marktplatz / Hauptstraße\, 77694 Kehl<br /><strong>Ver
 anstalter:</strong><br/>Kehl Marketing GmbH<br /><strong>Termin:</strong><
 br/>Beginn: 01.10.2026<br/>Ende: 01.10.2026<br /><strong>Tickets: </strong
 ><br/><a  class='wco_cb_subtitle_link'  id='ticketlink'  href='https://keh
 l-marketing-gmbh.reservix.de/events' target='_blank' title='Öffnet externe
 n Link '>Tickets</a><br/>https://kehl-marketing-gmbh.reservix.de/events<br
 />16\,90 Euro inkl. Headset und kulinarische Begrüßung<br />\n<br />\nTram
 -Fahrkarte unbedingt separat dazu kaufen.<br />\nAusweis unbedingt mit bri
 ngen.<br /><strong>Link:</strong><br/><a href='https://ortenaukultur.de/de
 /veranstaltungen/detail/veranstaltung/id/583683-fuehrung-europaeisches-str
 assburg/?vt=1'>Zur Detailseite</a>
END:VEVENT
END:VCALENDAR
