BEGIN:VCALENDAR
VERSION:2.0
PRODID:-//ortenaukultur.de//NONSGML kigkonsult.se iCalcreator 2.41.92//
CALSCALE:GREGORIAN
METHOD:PUBLISH
UID:30336265-3039-4637-a137-616363633839
X-WR-TIMEZONE:Europe/Berlin
X-LIC-LOCATION:Europe/Berlin
BEGIN:VEVENT
UID:584376-kulturportal@ortenaukultur.de
DTSTAMP:20260422T015622Z
DESCRIPTION:Kurzbeschreibung:\n Ein Muss für alle Westernfans! Indianer\, C
 owboys und Trapper errichten ein Lager aus Tippis\, Lodges und anderen aut
 hentischen Unterkünften.\n Ort:\n Schützenhaus Altdorf\n Flugplatzstraße\,
  77955 Ettenheim-Altdorf\n Veranstalter:\n Schützenverein Altdorf e. V.\n 
 Termin:\n Beginn: 17.07.2026\n Ende: 17.07.2026\n Link:\n Zur Detailseite
DTSTART;TZID=Europe/Berlin:20260717T000000
DTEND;TZID=Europe/Berlin:20260717T030000
LOCATION:Schützenhaus Altdorf\, Flugplatzstraße\, 77955 Ettenheim-Altdorf
SUMMARY:Westerncamp in Altdorf\, Schützenhaus Altdorf
X-ALT-DESC;FMTTYPE=text/html:<strong>Kurzbeschreibung:</strong><br/>Ein Mus
 s für alle Westernfans!  Indianer\, Cowboys und Trapper errichten ein Lage
 r aus Tippis\, Lodges und anderen authentischen Unterkünften.<br /><strong
 >Ort:</strong><br/>Schützenhaus Altdorf<br/>Flugplatzstraße\, 77955 Ettenh
 eim-Altdorf<br /><strong>Veranstalter:</strong><br/>Schützenverein Altdorf
  e. V.<br /><strong>Termin:</strong><br/>Beginn: 17.07.2026<br/>Ende: 17.0
 7.2026<br /><strong>Link:</strong><br/><a href='https://ortenaukultur.de/d
 e/veranstaltungen/detail/veranstaltung/id/584376-westerncamp-in-altdorf/?v
 t=1'>Zur Detailseite</a>
END:VEVENT
END:VCALENDAR
