BEGIN:VCALENDAR
VERSION:2.0
PRODID:-//ortenaukultur.de//NONSGML kigkonsult.se iCalcreator 2.41.92//
CALSCALE:GREGORIAN
METHOD:PUBLISH
UID:30666130-3966-4462-a139-313037326239
X-WR-TIMEZONE:Europe/Berlin
X-LIC-LOCATION:Europe/Berlin
BEGIN:VEVENT
UID:584394-kulturportal@ortenaukultur.de
DTSTAMP:20260421T190744Z
DESCRIPTION:Kurzbeschreibung:\n Bunter Weihnachtsmarkt mit verschiedenen St
 änden\, Aufführungen der Kindergartenkinder und Grundschüler.\n Ort:\n Vor
 platz Halle\n Joseph-Greber-Str. 5\, 77955 Ettenheim-Altdorf\n Veranstalte
 r:\n Turngemeinde Altdorf e. V.\n Termin:\n Beginn: 25.11.2026\, 16:00 Uhr
 \n Ende: 25.11.2026\n Link:\n Zur Detailseite
DTSTART;TZID=Europe/Berlin:20261125T160000
DTEND;TZID=Europe/Berlin:20261125T190000
LOCATION:Vorplatz Halle\, Joseph-Greber-Str. 5\, 77955 Ettenheim-Altdorf
SUMMARY:Winterzauber in Altdorf\, Münchgrundhalle
X-ALT-DESC;FMTTYPE=text/html:<strong>Kurzbeschreibung:</strong><br/>Bunter 
 Weihnachtsmarkt mit verschiedenen Ständen\, Aufführungen der Kindergartenk
 inder und Grundschüler.\n<br /><strong>Ort:</strong><br/>Vorplatz Halle<br
 />Joseph-Greber-Str. 5\, 77955 Ettenheim-Altdorf<br /><strong>Veranstalter
 :</strong><br/>Turngemeinde Altdorf e. V.<br /><strong>Termin:</strong><br
 />Beginn: 25.11.2026\, 16:00 Uhr<br/>Ende: 25.11.2026<br /><strong>Link:</
 strong><br/><a href='https://ortenaukultur.de/de/veranstaltungen/detail/ve
 ranstaltung/id/584394-winterzauber-in-altdorf/?vt=1'>Zur Detailseite</a>
END:VEVENT
END:VCALENDAR
