BEGIN:VCALENDAR
VERSION:2.0
PRODID:-//ortenaukultur.de//NONSGML kigkonsult.se iCalcreator 2.41.92//
CALSCALE:GREGORIAN
METHOD:PUBLISH
UID:31383739-6432-4165-b834-626263393732
X-WR-TIMEZONE:Europe/Berlin
X-LIC-LOCATION:Europe/Berlin
BEGIN:VEVENT
UID:584532-kulturportal@ortenaukultur.de
DTSTAMP:20260422T133625Z
DESCRIPTION:Kurzbeschreibung:\n NorDi und Lilly gehen wieder auf Abenteuer-
 Rätsel-Reise. Findet an den Rätselstationen die Zahlenkombination für die 
 Schatztruhe!\n Ort:\n Erwin-Junker-Park\, Nordrach Dorf\n Nordrach Dorf\, 
 77787 Nordrach - Dorf\n Veranstalter:\n Touristen-Information Nordrach\n T
 ermin:\n Beginn: 29.11.2026\, 10:00 Uhr\n Ende: 29.11.2026\n Link:\n Zur D
 etailseite
DTSTART;TZID=Europe/Berlin:20261129T100000
DTEND;TZID=Europe/Berlin:20261129T130000
LOCATION:Erwin-Junker-Park\, Nordrach Dorf\, Nordrach Dorf\, 77787 Nordrach
  - Dorf
SUMMARY:NorDis zauberhafter Kinder-Rätselweg zur Weihnachtszeit.\, Erwin-Ju
 nker-Park\, Nordrach Dorf
X-ALT-DESC;FMTTYPE=text/html:<strong>Kurzbeschreibung:</strong><br/>NorDi u
 nd Lilly gehen wieder auf Abenteuer-Rätsel-Reise. Findet an den Rätselstat
 ionen die Zahlenkombination für die Schatztruhe! <br /><strong>Ort:</stron
 g><br/>Erwin-Junker-Park\, Nordrach Dorf<br/>Nordrach Dorf\, 77787 Nordrac
 h - Dorf<br /><strong>Veranstalter:</strong><br/>Touristen-Information Nor
 drach<br /><strong>Termin:</strong><br/>Beginn: 29.11.2026\, 10:00 Uhr<br/
 >Ende: 29.11.2026<br /><strong>Link:</strong><br/><a href='https://ortenau
 kultur.de/de/veranstaltungen/detail/veranstaltung/id/584532-nordis-zauberh
 after-kinder-raetselweg-zur-weihnachtszeit/?vt=1'>Zur Detailseite</a>
END:VEVENT
END:VCALENDAR
