BEGIN:VCALENDAR
VERSION:2.0
PRODID:-//ortenaukultur.de//NONSGML kigkonsult.se iCalcreator 2.41.92//
CALSCALE:GREGORIAN
METHOD:PUBLISH
UID:64316363-3166-4339-a338-336564383538
X-WR-TIMEZONE:Europe/Berlin
X-LIC-LOCATION:Europe/Berlin
BEGIN:VEVENT
UID:585136-kulturportal@ortenaukultur.de
DTSTAMP:20260421T220819Z
DESCRIPTION:Kurzbeschreibung:\n Seunglee Yang spielt in der Stadthalle Stüc
 ke von Schumann\, Skrjabin\, Chopin und Liszt\n Ort:\n Stadthalle am Nolle
 n\n Nollenstr. 15\, 77723 Gengenbach\n Veranstalter:\n Weltklassik am Klav
 ier\n Termin:\n Beginn: 03.05.2026\, 17:00 Uhr\n Ende: 03.05.2026\n Ticket
 s:\n www.weltklassik.de\n https://www.weltklassik.de\n Link:\n Zur Details
 eite
DTSTART;TZID=Europe/Berlin:20260503T170000
DTEND;TZID=Europe/Berlin:20260503T200000
LOCATION:Stadthalle am Nollen\, Nollenstr. 15\, 77723 Gengenbach
SUMMARY:Weltklassik am Klavier - Zwischen Traum und Wahrheit - Chopin und L
 iszts berühmte Sonate!\, Stadthalle am Nollen
X-ALT-DESC;FMTTYPE=text/html:<strong>Kurzbeschreibung:</strong><br/>Seungle
 e Yang spielt in der Stadthalle Stücke von Schumann\, Skrjabin\, Chopin un
 d Liszt<br /><strong>Ort:</strong><br/>Stadthalle am Nollen<br/>Nollenstr.
  15\, 77723 Gengenbach<br /><strong>Veranstalter:</strong><br/>Weltklassik
  am Klavier<br /><strong>Termin:</strong><br/>Beginn: 03.05.2026\, 17:00 U
 hr<br/>Ende: 03.05.2026<br /><strong>Tickets: </strong><br/><a  class='wco
 _cb_subtitle_link'  id='ticketlink'  href='https://www.weltklassik.de' tar
 get='_blank' title='Öffnet externen Link in einem neuen Fenster'>www.weltk
 lassik.de</a><br/>https://www.weltklassik.de<br /><strong>Link:</strong><b
 r/><a href='https://ortenaukultur.de/de/veranstaltungen/detail/veranstaltu
 ng/id/585136-weltklassik-am-klavier-zwischen-traum-und-wahrheit-chopin-und
 -liszts-beruehmte-sonate/?vt=1'>Zur Detailseite</a>
END:VEVENT
END:VCALENDAR
