BEGIN:VCALENDAR
VERSION:2.0
PRODID:-//ortenaukultur.de//NONSGML kigkonsult.se iCalcreator 2.41.92//
CALSCALE:GREGORIAN
METHOD:PUBLISH
UID:37333734-3064-4366-a531-613766626535
X-WR-TIMEZONE:Europe/Berlin
X-LIC-LOCATION:Europe/Berlin
BEGIN:VEVENT
UID:585180-kulturportal@ortenaukultur.de
DTSTAMP:20260422T180953Z
DESCRIPTION:Kurzbeschreibung:\n Kindertheater ab 3 Jahren nach den Büchern 
 von Sven Nordquist und Jujja Wieslander.\n Ort:\n ´s freche hus\n Apotheke
 rgasse 7\, 77704 Oberkirch\n Veranstalter:\n Stadt Oberkirch\n Termin:\n B
 eginn: 29.11.2026\, 16:00 Uhr\n Ende: 29.11.2026\n Tickets:\n Tickets kauf
 en\n https://ortenaukultur.reservix.de/p/reservix/event/2499133\n Preise:
 \n bis 7\,00 € + Ermäßigung\n *Preise inkl. MwSt.\n \n Link:\n Zur Details
 eite
DTSTART;TZID=Europe/Berlin:20261129T160000
DTEND;TZID=Europe/Berlin:20261129T190000
LOCATION:´s freche hus\, Apothekergasse 7\, 77704 Oberkirch
SUMMARY:Mama Muh im Schnee\, ´s freche hus
X-ALT-DESC;FMTTYPE=text/html:<strong>Kurzbeschreibung:</strong><br/>Kindert
 heater ab 3 Jahren nach den Büchern von Sven Nordquist und Jujja Wieslande
 r.<br /><strong>Ort:</strong><br/>´s freche hus<br/>Apothekergasse 7\, 777
 04 Oberkirch<br /><strong>Veranstalter:</strong><br/>Stadt Oberkirch<br />
 <strong>Termin:</strong><br/>Beginn: 29.11.2026\, 16:00 Uhr<br/>Ende: 29.1
 1.2026<br /><strong>Tickets: </strong><br/><a rel='asdf' href='https://ort
 enaukultur.de/de/detail/tickets/id/585180-mama-muh-im-schnee/?follow=https
 %253A%252F%252Fortenaukultur.reservix.de%252Fp%252Freservix%252Fevent%252F
 2499133' target='_blank' title='' id='ticketlink'>Tickets kaufen</a><br/>h
 ttps://ortenaukultur.reservix.de/p/reservix/event/2499133<br/><b>Preise: <
 /b><br />bis 7\,00 &euro\;&nbsp\; + Ermäßigung<br />*Preise inkl. MwSt.<br
  /><br /><strong>Link:</strong><br/><a href='https://ortenaukultur.de/de/v
 eranstaltungen/detail/veranstaltung/id/585180-mama-muh-im-schnee/?vt=1'>Zu
 r Detailseite</a>
END:VEVENT
END:VCALENDAR
