BEGIN:VCALENDAR
VERSION:2.0
PRODID:-//ortenaukultur.de//NONSGML kigkonsult.se iCalcreator 2.41.92//
CALSCALE:GREGORIAN
METHOD:PUBLISH
UID:64653335-3738-4231-b433-643630326463
X-WR-TIMEZONE:Europe/Berlin
X-LIC-LOCATION:Europe/Berlin
BEGIN:VEVENT
UID:585262-kulturportal@ortenaukultur.de
DTSTAMP:20260422T022336Z
DESCRIPTION:Kurzbeschreibung:\n Vinum - Wein und Genuss veranstaltet einen 
 sommerlichen Weinabend im Klostergarten.\n Ort:\n Klosterplatz\n Klosterst
 raße 1\, 77716 Haslach\n Veranstalter:\n VINUM - Wein und Genuss\n Termin:
 \n Beginn: 23.05.2026\, 17:00 Uhr\n Ende: 23.05.2026\n Tickets:\n Freier E
 intritt\n \n Link:\n Zur Detailseite
DTSTART;TZID=Europe/Berlin:20260523T170000
DTEND;TZID=Europe/Berlin:20260523T200000
LOCATION:Klosterplatz\, Klosterstraße 1\, 77716 Haslach
SUMMARY:Vinum Weinsommer im Klostergarten\, Klosterplatz
X-ALT-DESC;FMTTYPE=text/html:<strong>Kurzbeschreibung:</strong><br/>Vinum -
  Wein und Genuss veranstaltet einen sommerlichen Weinabend im Klostergarte
 n. <br /><strong>Ort:</strong><br/>Klosterplatz<br/>Klosterstraße 1\, 7771
 6 Haslach<br /><strong>Veranstalter:</strong><br/>VINUM - Wein und Genuss<
 br /><strong>Termin:</strong><br/>Beginn: 23.05.2026\, 17:00 Uhr<br/>Ende:
  23.05.2026<br /><strong>Tickets: </strong><br/>Freier Eintritt<br />\n<br
  /><strong>Link:</strong><br/><a href='https://ortenaukultur.de/de/veranst
 altungen/detail/veranstaltung/id/585262-vinum-weinsommer-im-klostergarten/
 ?vt=1'>Zur Detailseite</a>
END:VEVENT
END:VCALENDAR
