BEGIN:VCALENDAR
VERSION:2.0
PRODID:-//ortenaukultur.de//NONSGML kigkonsult.se iCalcreator 2.41.92//
CALSCALE:GREGORIAN
METHOD:PUBLISH
UID:36326535-3534-4636-b436-326435653666
X-WR-TIMEZONE:Europe/Berlin
X-LIC-LOCATION:Europe/Berlin
BEGIN:VEVENT
UID:585354-kulturportal@ortenaukultur.de
DTSTAMP:20260422T014903Z
DESCRIPTION:Kurzbeschreibung:\n Seit vielen Jahren beliebte Anlaufstation a
 uf der Maientour für Jung und Alt.\n Ort:\n Grischthütte\, Steinach-Welsch
 ensteinach\n Veranstalter:\n Schwarzwaldverein\n Termin:\n Beginn: 01.05.2
 026\n Ende: 01.05.2026\n Link:\n Zur Detailseite
DTSTART;TZID=Europe/Berlin:20260501T000000
DTEND;TZID=Europe/Berlin:20260501T030000
LOCATION:Grischthütte\, Steinach-Welschensteinach
SUMMARY:Frühlingsfest \, Grischthütte
X-ALT-DESC;FMTTYPE=text/html:<strong>Kurzbeschreibung:</strong><br/>Seit vi
 elen Jahren beliebte Anlaufstation auf der Maientour für Jung und Alt.<br 
 /><strong>Ort:</strong><br/>Grischthütte\, Steinach-Welschensteinach<br />
 <strong>Veranstalter:</strong><br/>Schwarzwaldverein<br /><strong>Termin:<
 /strong><br/>Beginn: 01.05.2026<br/>Ende: 01.05.2026<br /><strong>Link:</s
 trong><br/><a href='https://ortenaukultur.de/de/veranstaltungen/detail/ver
 anstaltung/id/585354-fruehlingsfest/?vt=1'>Zur Detailseite</a>
END:VEVENT
END:VCALENDAR
