BEGIN:VCALENDAR
VERSION:2.0
PRODID:-//ortenaukultur.de//NONSGML kigkonsult.se iCalcreator 2.41.92//
CALSCALE:GREGORIAN
METHOD:PUBLISH
UID:39616338-3437-4766-a237-343663643165
X-WR-TIMEZONE:Europe/Berlin
X-LIC-LOCATION:Europe/Berlin
BEGIN:VEVENT
UID:585434-kulturportal@ortenaukultur.de
DTSTAMP:20260422T213257Z
DESCRIPTION:Kurzbeschreibung:\n Mit dem Weinglas durch die Reben! Wir wande
 rn mit Ihnen in die Rebberge\, wo Sie den Weinbau hautnah erleben können\n
  Ort:\n Renner`s Weinstube\n Bachanlage 4\, 77704 Oberkirch\n Veranstalter
 :\n Weinhaus Renner\n Termin:\n Beginn: 13.06.2026\, 13:00 Uhr\n Ende: 13.
 06.2026\n Link:\n Zur Detailseite
DTSTART;TZID=Europe/Berlin:20260613T130000
DTEND;TZID=Europe/Berlin:20260613T160000
LOCATION:Renner`s Weinstube\, Bachanlage 4\, 77704 Oberkirch
SUMMARY:Weinwanderung\, Renner`s Weinstube
X-ALT-DESC;FMTTYPE=text/html:<strong>Kurzbeschreibung:</strong><br/>Mit dem
  Weinglas durch die Reben! Wir wandern mit Ihnen in die Rebberge\, wo Sie 
 den Weinbau hautnah erleben können<br /><strong>Ort:</strong><br/>Renner`s
  Weinstube<br/>Bachanlage 4\, 77704 Oberkirch<br /><strong>Veranstalter:</
 strong><br/>Weinhaus Renner<br /><strong>Termin:</strong><br/>Beginn: 13.0
 6.2026\, 13:00 Uhr<br/>Ende: 13.06.2026<br /><strong>Link:</strong><br/><a
  href='https://ortenaukultur.de/de/veranstaltungen/detail/veranstaltung/id
 /585434-weinwanderung/?vt=1'>Zur Detailseite</a>
END:VEVENT
END:VCALENDAR
