BEGIN:VCALENDAR
VERSION:2.0
PRODID:-//ortenaukultur.de//NONSGML kigkonsult.se iCalcreator 2.41.92//
CALSCALE:GREGORIAN
METHOD:PUBLISH
UID:38613530-3235-4765-b031-663637313531
X-WR-TIMEZONE:Europe/Berlin
X-LIC-LOCATION:Europe/Berlin
BEGIN:VEVENT
UID:585844-kulturportal@ortenaukultur.de
DTSTAMP:20260422T155904Z
DESCRIPTION:Kurzbeschreibung:\n Die Laufabteilung des SV Steinach lädt ein 
 zum Sommer-Abend-Lauf für Bambinis\, Schüler und Erwachsene.\n Ort:\n Turn
 - und Festhalle\n Schulstr. 1\, 77790 Steinach\n Veranstalter:\n Sportvere
 in\n Termin:\n Beginn: 12.06.2026\n Ende: 12.06.2026\n Link:\n Zur Details
 eite
DTSTART;TZID=Europe/Berlin:20260612T000000
DTEND;TZID=Europe/Berlin:20260612T030000
LOCATION:Turn- und Festhalle\, Schulstr. 1\, 77790 Steinach
SUMMARY:Steinacher Sommer - Abend - Lauf  \, Turn- und Festhalle
X-ALT-DESC;FMTTYPE=text/html:<strong>Kurzbeschreibung:</strong><br/>Die Lau
 fabteilung des SV Steinach lädt ein zum Sommer-Abend-Lauf für Bambinis\, S
 chüler und Erwachsene.<br /><strong>Ort:</strong><br/>Turn- und Festhalle<
 br/>Schulstr. 1\, 77790 Steinach<br /><strong>Veranstalter:</strong><br/>S
 portverein<br /><strong>Termin:</strong><br/>Beginn: 12.06.2026<br/>Ende: 
 12.06.2026<br /><strong>Link:</strong><br/><a href='https://ortenaukultur.
 de/de/veranstaltungen/detail/veranstaltung/id/585844-steinacher-sommer-abe
 nd-lauf/?vt=1'>Zur Detailseite</a>
END:VEVENT
END:VCALENDAR
