BEGIN:VCALENDAR
VERSION:2.0
PRODID:-//ortenaukultur.de//NONSGML kigkonsult.se iCalcreator 2.41.92//
CALSCALE:GREGORIAN
METHOD:PUBLISH
UID:61656337-6633-4133-a534-336236393534
X-WR-TIMEZONE:Europe/Berlin
X-LIC-LOCATION:Europe/Berlin
BEGIN:VEVENT
UID:586037-kulturportal@ortenaukultur.de
DTSTAMP:20260421T205223Z
DESCRIPTION:Kurzbeschreibung:\n Das Sommerfestival im Mega-Zelt auf dem Pla
 tz der Verfassungsfreunde Offenburg\n Ort:\n Platz der Verfassungsfreunde 
 / Kulturforum\n Aenne-Burda-Allee\, 77654 Offenburg\n Veranstalter:\n Fach
 bereich Kultur - Kulturbüro\n Termin:\n Beginn: 17.07.2026\n Ende: 17.07.2
 026\n Link:\n Zur Detailseite
DTSTART;TZID=Europe/Berlin:20260717T000000
DTEND;TZID=Europe/Berlin:20260717T030000
LOCATION:Platz der Verfassungsfreunde / Kulturforum\, Aenne-Burda-Allee\, 7
 7654 Offenburg
SUMMARY:Offenburg feiert im Zelt\, Platz der Verfassungsfreunde / Kulturfor
 um
X-ALT-DESC;FMTTYPE=text/html:<strong>Kurzbeschreibung:</strong><br/>Das Som
 merfestival im Mega-Zelt auf dem Platz der Verfassungsfreunde Offenburg<br
  /><strong>Ort:</strong><br/>Platz der Verfassungsfreunde / Kulturforum<br
 />Aenne-Burda-Allee\, 77654 Offenburg<br /><strong>Veranstalter:</strong><
 br/>Fachbereich Kultur - Kulturbüro<br /><strong>Termin:</strong><br/>Begi
 nn: 17.07.2026<br/>Ende: 17.07.2026<br /><strong>Link:</strong><br/><a hre
 f='https://ortenaukultur.de/de/veranstaltungen/detail/veranstaltung/id/586
 037-offenburg-feiert-im-zelt/?vt=1'>Zur Detailseite</a>
END:VEVENT
END:VCALENDAR
