BEGIN:VCALENDAR
VERSION:2.0
PRODID:-//ortenaukultur.de//NONSGML kigkonsult.se iCalcreator 2.41.92//
CALSCALE:GREGORIAN
METHOD:PUBLISH
UID:32653536-6463-4363-a634-373165616436
X-WR-TIMEZONE:Europe/Berlin
X-LIC-LOCATION:Europe/Berlin
BEGIN:VEVENT
UID:587145-kulturportal@ortenaukultur.de
DTSTAMP:20260422T003608Z
DESCRIPTION:Kurzbeschreibung:\n Jeden ersten Sonntag im Monat gibt es eine 
 kostenlose Führung für Einzelpersonen im Rundofen. Dabei erfahren Sie wiss
 enswerte Details über seine Geschichte.\n Ort:\n Rundofen\n Fabrikstraße 5
 a\, 77736 Zell am Harmersbach\n Veranstalter:\n Kultur und Stadtmarketing
 \n Termin:\n Beginn: 01.11.2026\, 14:30 Uhr\n Ende: 01.11.2026\n Tickets:
 \n Kostenfreie Veranstaltung. Keine Anmeldung erforderlich!\n Link:\n Zur 
 Detailseite
DTSTART;TZID=Europe/Berlin:20261101T143000
DTEND;TZID=Europe/Berlin:20261101T173000
LOCATION:Rundofen\, Fabrikstraße 5a\, 77736 Zell am Harmersbach
SUMMARY:Kostenfreie Führung durch den historischen Rundofen in Zell am Harm
 ersbach \, Rundofen
X-ALT-DESC;FMTTYPE=text/html:<strong>Kurzbeschreibung:</strong><br/>Jeden e
 rsten Sonntag im Monat gibt es eine kostenlose Führung für Einzelpersonen 
 im Rundofen.\nDabei erfahren Sie wissenswerte Details über seine Geschicht
 e.<br /><strong>Ort:</strong><br/>Rundofen<br/>Fabrikstraße 5a\, 77736 Zel
 l am Harmersbach<br /><strong>Veranstalter:</strong><br/>Kultur und Stadtm
 arketing<br /><strong>Termin:</strong><br/>Beginn: 01.11.2026\, 14:30 Uhr<
 br/>Ende: 01.11.2026<br /><strong>Tickets: </strong><br/>Kostenfreie Veran
 staltung. Keine Anmeldung erforderlich!<br /><strong>Link:</strong><br/><a
  href='https://ortenaukultur.de/de/veranstaltungen/detail/veranstaltung/id
 /587145-kostenfreie-fuehrung-durch-den-historischen-rundofen-in-zell-am-ha
 rmersbach/?vt=1'>Zur Detailseite</a>
END:VEVENT
END:VCALENDAR
