BEGIN:VCALENDAR
VERSION:2.0
PRODID:-//ortenaukultur.de//NONSGML kigkonsult.se iCalcreator 2.41.92//
CALSCALE:GREGORIAN
METHOD:PUBLISH
UID:61613231-6135-4833-a561-633930393839
X-WR-TIMEZONE:Europe/Berlin
X-LIC-LOCATION:Europe/Berlin
BEGIN:VEVENT
UID:587459-kulturportal@ortenaukultur.de
DTSTAMP:20260422T023625Z
DESCRIPTION:Kurzbeschreibung:\n „Gib jedem Tag die Chance\, der schönste de
 ines Lebens zu werden.“ Wir finden\, mit einem guten Frühstück ist schon m
 al die erste Grundlage dafür gelegt.\n Ort:\n Hotel\, Café Mühlenglück\, S
 chwarzwaldstr. 16 \, Oppenau\n Veranstalter:\n Hotel & Café Mühlenglück\n 
 Termin:\n Beginn: 30.08.2026\, 09:00 Uhr\n Ende: 30.08.2026\n Link:\n Zur 
 Detailseite
DTSTART;TZID=Europe/Berlin:20260830T090000
DTEND;TZID=Europe/Berlin:20260830T120000
LOCATION:Hotel\, Café Mühlenglück\, Schwarzwaldstr. 16 \, Oppenau
SUMMARY:Schlemmerfrühstück im Mühlenglück \, Hotel\, Café Mühlenglück\, Sch
 warzwaldstr. 16
X-ALT-DESC;FMTTYPE=text/html:<strong>Kurzbeschreibung:</strong><br/>„Gib je
 dem Tag die Chance\, der schönste deines Lebens zu werden.“ Wir finden\, m
 it einem guten Frühstück ist schon mal die erste Grundlage dafür gelegt.<b
 r /><strong>Ort:</strong><br/>Hotel\, Café Mühlenglück\, Schwarzwaldstr. 1
 6 \, Oppenau<br /><strong>Veranstalter:</strong><br/>Hotel & Café Mühlengl
 ück<br /><strong>Termin:</strong><br/>Beginn: 30.08.2026\, 09:00 Uhr<br/>E
 nde: 30.08.2026<br /><strong>Link:</strong><br/><a href='https://ortenauku
 ltur.de/de/veranstaltungen/detail/veranstaltung/id/587459-schlemmerfruehst
 ueck-im-muehlenglueck/?vt=1'>Zur Detailseite</a>
END:VEVENT
END:VCALENDAR
