BEGIN:VCALENDAR
VERSION:2.0
PRODID:-//ortenaukultur.de//NONSGML kigkonsult.se iCalcreator 2.41.92//
CALSCALE:GREGORIAN
METHOD:PUBLISH
UID:62326638-6363-4435-b766-363065343431
X-WR-TIMEZONE:Europe/Berlin
X-LIC-LOCATION:Europe/Berlin
BEGIN:VEVENT
UID:587517-kulturportal@ortenaukultur.de
DTSTAMP:20260421T221851Z
DESCRIPTION:Kurzbeschreibung:\n Komödie von Michèle Bernier & Marie Pascale
  Osterrieth Deutsch von Manfred Langner\n Ort:\n Theaterwelt\n Römerstr. 8
 2\, 77694 Kehl-Goldscheuer\n Veranstalter:\n Theaterwelt\n Termin:\n Begin
 n: 03.10.2026\n Ende: 03.10.2026\n Tickets:\n 17€\, 15€ ermäßigt\n Link:\n
  Zur Detailseite
DTSTART;TZID=Europe/Berlin:20261003T000000
DTEND;TZID=Europe/Berlin:20261003T030000
LOCATION:Theaterwelt\, Römerstr. 82\, 77694 Kehl-Goldscheuer
SUMMARY:Männer und andere Irrtümer\, Theaterwelt
X-ALT-DESC;FMTTYPE=text/html:<strong>Kurzbeschreibung:</strong><br/>Komödie
  von Michèle Bernier & Marie Pascale Osterrieth\nDeutsch von Manfred Langn
 er <br /><strong>Ort:</strong><br/>Theaterwelt<br/>Römerstr. 82\, 77694 Ke
 hl-Goldscheuer<br /><strong>Veranstalter:</strong><br/>Theaterwelt<br /><s
 trong>Termin:</strong><br/>Beginn: 03.10.2026<br/>Ende: 03.10.2026<br /><s
 trong>Tickets: </strong><br/>17€\, 15€ ermäßigt<br /><strong>Link:</strong
 ><br/><a href='https://ortenaukultur.de/de/veranstaltungen/detail/veransta
 ltung/id/587517-maenner-und-andere-irrtuemer/?vt=1'>Zur Detailseite</a>
END:VEVENT
END:VCALENDAR
