BEGIN:VCALENDAR
VERSION:2.0
PRODID:-//ortenaukultur.de//NONSGML kigkonsult.se iCalcreator 2.41.92//
CALSCALE:GREGORIAN
METHOD:PUBLISH
UID:65343131-3734-4366-a438-313461623332
X-WR-TIMEZONE:Europe/Berlin
X-LIC-LOCATION:Europe/Berlin
BEGIN:VEVENT
UID:587520-kulturportal@ortenaukultur.de
DTSTAMP:20260422T005229Z
DESCRIPTION:Kurzbeschreibung:\n Großes Stadtfest mit mehreren Bühnen\, Mark
 t und vielfältiger Gastronomie in der gesamten Innenstadt\n Ort:\n Innenst
 adt\n Marktplatz / Hauptstraße\, 77694 Kehl\n Veranstalter:\n Stadt Kehl\n
  Termin:\n Beginn: 14.05.2026\, 12:00 Uhr\n Ende: 14.05.2026\n Tickets:\n 
 Eintritt kostenlos\n Link:\n Zur Detailseite
DTSTART;TZID=Europe/Berlin:20260514T120000
DTEND;TZID=Europe/Berlin:20260514T150000
LOCATION:Innenstadt\, Marktplatz / Hauptstraße\, 77694 Kehl
SUMMARY:DJ ML Miyoshi Kehler Messdi 2026\, Innenstadt
X-ALT-DESC;FMTTYPE=text/html:<strong>Kurzbeschreibung:</strong><br/>Großes 
 Stadtfest mit mehreren Bühnen\, Markt und vielfältiger Gastronomie in der 
 gesamten Innenstadt<br /><strong>Ort:</strong><br/>Innenstadt<br/>Marktpla
 tz / Hauptstraße\, 77694 Kehl<br /><strong>Veranstalter:</strong><br/>Stad
 t Kehl<br /><strong>Termin:</strong><br/>Beginn: 14.05.2026\, 12:00 Uhr<br
 />Ende: 14.05.2026<br /><strong>Tickets: </strong><br/>Eintritt kostenlos<
 br /><strong>Link:</strong><br/><a href='https://ortenaukultur.de/de/veran
 staltungen/detail/veranstaltung/id/587520-dj-ml-miyoshi-kehler-messdi-2026
 /?vt=1'>Zur Detailseite</a>
END:VEVENT
END:VCALENDAR
