BEGIN:VCALENDAR
VERSION:2.0
PRODID:-//ortenaukultur.de//NONSGML kigkonsult.se iCalcreator 2.41.92//
CALSCALE:GREGORIAN
METHOD:PUBLISH
UID:36616464-6636-4164-a533-323336656262
X-WR-TIMEZONE:Europe/Berlin
X-LIC-LOCATION:Europe/Berlin
BEGIN:VEVENT
UID:587521-kulturportal@ortenaukultur.de
DTSTAMP:20260421T170611Z
DESCRIPTION:Kurzbeschreibung:\n Großes Stadtfest mit mehreren Bühnen\, Mark
 t und vielfältiger Gastronomie in der gesamten Innenstadt\n Ort:\n Innenst
 adt\n Marktplatz / Hauptstraße\, 77694 Kehl\n Veranstalter:\n Stadt Kehl\n
  Termin:\n Beginn: 17.05.2026\n Ende: 17.05.2026\n Tickets:\n Eintritt kos
 tenlos\n Link:\n Zur Detailseite
DTSTART;TZID=Europe/Berlin:20260517T000000
DTEND;TZID=Europe/Berlin:20260517T030000
LOCATION:Innenstadt\, Marktplatz / Hauptstraße\, 77694 Kehl
SUMMARY:Zirkus Papperlapapp Kehler Messdi 2026 \, Innenstadt
X-ALT-DESC;FMTTYPE=text/html:<strong>Kurzbeschreibung:</strong><br/>Großes 
 Stadtfest mit mehreren Bühnen\, Markt und vielfältiger Gastronomie in der 
 gesamten Innenstadt<br /><strong>Ort:</strong><br/>Innenstadt<br/>Marktpla
 tz / Hauptstraße\, 77694 Kehl<br /><strong>Veranstalter:</strong><br/>Stad
 t Kehl<br /><strong>Termin:</strong><br/>Beginn: 17.05.2026<br/>Ende: 17.0
 5.2026<br /><strong>Tickets: </strong><br/>Eintritt kostenlos<br /><strong
 >Link:</strong><br/><a href='https://ortenaukultur.de/de/veranstaltungen/d
 etail/veranstaltung/id/587521-zirkus-papperlapapp-kehler-messdi-2026/?vt=1
 '>Zur Detailseite</a>
END:VEVENT
END:VCALENDAR
