BEGIN:VCALENDAR
VERSION:2.0
PRODID:-//ortenaukultur.de//NONSGML kigkonsult.se iCalcreator 2.41.92//
CALSCALE:GREGORIAN
METHOD:PUBLISH
UID:36316537-6535-4863-b132-643762666338
X-WR-TIMEZONE:Europe/Berlin
X-LIC-LOCATION:Europe/Berlin
BEGIN:VEVENT
UID:588431-kulturportal@ortenaukultur.de
DTSTAMP:20260421T205505Z
DESCRIPTION:Kurzbeschreibung:\n Ein spritziges Bauernhofabenteuer\, voller 
 Situationskomik und dem unwiderstehlichen Charme der Kuh Lieselotte.\n Ort
 :\n Stadtbibliothek Offenburg\n Weingartenstr. 32/34\, 77654 Offenburg\n V
 eranstalter:\n Stadtbibliothek Offenburg\n Termin:\n Beginn: 06.05.2026\, 
 15:00 Uhr\n Ende: 06.05.2026\n Link:\n Zur Detailseite
DTSTART;TZID=Europe/Berlin:20260506T150000
DTEND;TZID=Europe/Berlin:20260506T180000
LOCATION:Stadtbibliothek Offenburg \, Weingartenstr. 32/34\, 77654 Offenbur
 g
SUMMARY:Vorlesestunde 'Lieselotte will nicht baden'\, Stadtbibliothek Offen
 burg
X-ALT-DESC;FMTTYPE=text/html:<strong>Kurzbeschreibung:</strong><br/>Ein spr
 itziges Bauernhofabenteuer\, voller Situationskomik und dem unwiderstehlic
 hen Charme der Kuh Lieselotte.<br /><strong>Ort:</strong><br/>Stadtbibliot
 hek Offenburg <br/>Weingartenstr. 32/34\, 77654 Offenburg<br /><strong>Ver
 anstalter:</strong><br/>Stadtbibliothek Offenburg<br /><strong>Termin:</st
 rong><br/>Beginn: 06.05.2026\, 15:00 Uhr<br/>Ende: 06.05.2026<br /><strong
 >Link:</strong><br/><a href='https://ortenaukultur.de/de/veranstaltungen/d
 etail/veranstaltung/id/588431-vorlesestunde-lieselotte-will-nicht-baden/?v
 t=1'>Zur Detailseite</a>
END:VEVENT
END:VCALENDAR
