BEGIN:VCALENDAR
VERSION:2.0
PRODID:-//ortenaukultur.de//NONSGML kigkonsult.se iCalcreator 2.41.92//
CALSCALE:GREGORIAN
METHOD:PUBLISH
UID:31343038-3661-4239-b233-333332633831
X-WR-TIMEZONE:Europe/Berlin
X-LIC-LOCATION:Europe/Berlin
BEGIN:VEVENT
UID:588621-kulturportal@ortenaukultur.de
DTSTAMP:20260422T000050Z
DESCRIPTION:Kurzbeschreibung:\n Frei erzählt und dramatisiert nach der Biog
 rafie der Aenne Burda „Wunder sind machbar“ von Ute Dahmen und aus Erinner
 ungen von Gesprächen mit Uwe Brandner\n Ort:\n Theater Eurodistrict Baden 
 Alsace im Europäischen Forum am Rhein\n Am Altenheimer Yachthafen 1 \, 777
 43 Neuried-Altenheim\n Veranstalter:\n Theater Eurodistrict BAden ALsace\n
  Termin:\n Beginn: 02.05.2026\, 20:00 Uhr\n Ende: 02.05.2026\n Tickets:\n 
 \n https://baal-novo.reservix.de/p/reservix/group/477759\n Link:\n Zur Det
 ailseite
DTSTART;TZID=Europe/Berlin:20260502T200000
DTEND;TZID=Europe/Berlin:20260502T230000
LOCATION:Theater Eurodistrict Baden Alsace im Europäischen Forum am Rhein\,
  Am Altenheimer Yachthafen 1 \, 77743 Neuried-Altenheim
SUMMARY:Aenne - Ein Theateralbum über das Leben von Aenne Burda \, Theater 
 Eurodistrict Baden Alsace im Europäischen Forum am Rhein
X-ALT-DESC;FMTTYPE=text/html:<strong>Kurzbeschreibung:</strong><br/>Frei er
 zählt und dramatisiert nach der Biografie der Aenne Burda „Wunder sind mac
 hbar“ von Ute Dahmen und aus Erinnerungen von Gesprächen mit Uwe Brandner<
 br /><strong>Ort:</strong><br/>Theater Eurodistrict Baden Alsace im Europä
 ischen Forum am Rhein<br/>Am Altenheimer Yachthafen 1 \, 77743 Neuried-Alt
 enheim<br /><strong>Veranstalter:</strong><br/>Theater Eurodistrict BAden 
 ALsace<br /><strong>Termin:</strong><br/>Beginn: 02.05.2026\, 20:00 Uhr<br
 />Ende: 02.05.2026<br /><strong>Tickets: </strong><br/><a  class='wco_cb_s
 ubtitle_link'  id='ticketlink'  href='https://baal-novo.reservix.de/p/rese
 rvix/group/477759' target='_blank' title='Öffnet externen Link in einem ne
 uen Fenster'></a><br/>https://baal-novo.reservix.de/p/reservix/group/47775
 9<br /><strong>Link:</strong><br/><a href='https://ortenaukultur.de/de/ver
 anstaltungen/detail/veranstaltung/id/588621-aenne-ein-theateralbum-ueber-d
 as-leben-von-aenne-burda/?vt=1'>Zur Detailseite</a>
END:VEVENT
END:VCALENDAR
