BEGIN:VCALENDAR
VERSION:2.0
PRODID:-//ortenaukultur.de//NONSGML kigkonsult.se iCalcreator 2.41.92//
CALSCALE:GREGORIAN
METHOD:PUBLISH
UID:38623335-6162-4564-a333-376639646134
X-WR-TIMEZONE:Europe/Berlin
X-LIC-LOCATION:Europe/Berlin
BEGIN:VEVENT
UID:588664-kulturportal@ortenaukultur.de
DTSTAMP:20260422T023958Z
DESCRIPTION:Kurzbeschreibung:\n Mit Ludwig Hillenbrand\, Ulrike Derndinger 
 und der Nordracher Stubenmusik Anmeldung: 07838 929920\, touristen-info@no
 rdrach.de\n Ort:\n Höhengasthaus 'Vogt auf Mühlstein'\n Mühlstein 1\, 7778
 7 Nordrach - Mühlstein\n Veranstalter:\n Katholisches Bildungswerk Nordrac
 h\n Termin:\n Beginn: 04.12.2026\, 19:00 Uhr\n Ende: 04.12.2026\n Link:\n 
 Zur Detailseite
DTSTART;TZID=Europe/Berlin:20261204T190000
DTEND;TZID=Europe/Berlin:20261204T220000
LOCATION:Höhengasthaus 'Vogt auf Mühlstein'\, Mühlstein 1\, 77787 Nordrach 
 - Mühlstein
SUMMARY:'Z-Licht geh´n' auf dem Mühlstein! Geschichten und Musik\, Höhengas
 thaus 'Vogt auf Mühlstein'
X-ALT-DESC;FMTTYPE=text/html:<strong>Kurzbeschreibung:</strong><br/>Mit Lud
 wig Hillenbrand\, Ulrike Derndinger und der Nordracher Stubenmusik \nAnmel
 dung: 07838 929920\, touristen-info@nordrach.de<br /><strong>Ort:</strong>
 <br/>Höhengasthaus 'Vogt auf Mühlstein'<br/>Mühlstein 1\, 77787 Nordrach -
  Mühlstein<br /><strong>Veranstalter:</strong><br/>Katholisches Bildungswe
 rk Nordrach<br /><strong>Termin:</strong><br/>Beginn: 04.12.2026\, 19:00 U
 hr<br/>Ende: 04.12.2026<br /><strong>Link:</strong><br/><a href='https://o
 rtenaukultur.de/de/veranstaltungen/detail/veranstaltung/id/588664-z-licht-
 geh-n-auf-dem-muehlstein-geschichten-und-musik/?vt=1'>Zur Detailseite</a>
END:VEVENT
END:VCALENDAR
